{"text_format":"1","workbook":"xlsx","n_sheets":3,"sheets":["PRIPREMA ","Zreb16","RADNI 16"],"not_rendered":{"charts":0,"images":1,"macros":1,"external_links":1,"defined_names":17,"comments":1,"pivot_tables":0},"unopened":[],"bounds":{"document_bytes":16777216,"sheet_cells":100000,"rows_first":2000,"rows_last":500,"rows_between":2000,"halvings":0,"cell_chars":16384,"cell_head_chars":4096},"cells_cut":0,"cells_raw":0,"read":"whole","date_system":"1900"}

{"sheet":"PRIPREMA ","index":0,"n_rows":135,"n_cols":30,"rows_kept":135,"cut":false,"hidden":false,"merged":[[4,0,4,1]]}
[]
[]
[null,null,null,null,null,null,null,null,null,null,null,null,null,null,null,null,null,null,null,"Over 18",{"$f":"YEAR($A$5)-18","v":1882}]
[null,null,null,null,null,null,null,null,null,null,null,null,null,null,null,null,null,null,null,"Under 13",{"$f":"YEAR($A$5)-13","v":1887}]
[null,null,null,null,null,null,{"$f":"'[1]PODEŠAVANJA-NE BRISATI'!$A$12","v":0}]
["BROJ","PREZIME","IME","KLUB","Date of Birth\ndd mmm yy","TAKMIČARSKA",null,"RANG",null,null,null,null,"Seed Sort",null,null,"RANG NOSIOCA","AccSort","POZICIJA NOSIOCA",null,null,null,null,null,null,null,null,null,null,"II","III"]
["B","BYE",null,null,null,null,null,0,null,null,null,null,null,null,null,0,null,null,null,null,null,{"$f":"B8&\" \"&C8","v":" "},{"$f":"IF(AND(OR($D$5=4,$D$5=\"IV\",$D$5=\"IV\"),H7>0,H7<21,$G$5<>\"sen\"),\"NE MOZE DA IGRA!!!\",IF(AND(OR($D$5=3,$D$5=\"lll\",$D$5=\"III\"),H7>0,H7<11,$G$5<>\"sen\"),\"NE MOZE DA IGRA!!!\",\"\"))","v":""},null,{"$f":"IF(ISNUMBER(H7),H7,MID(AB7,5,5))","v":0},{"$f":"IF(AB7=\"tss\",Y7+10000,Y7)","v":10000},null,{"$f":"IF(ISNUMBER(H7),\"tss\",H7)","v":"tss"}]
[1,null,null,null,null,null,null,null,null,null,null,null,null,null,null,{"$f":"H8","v":0},null,null,null,null,null,{"$f":"B8&\" \"&C8","v":" "},{"$f":"IF(OR(ISBLANK(H8),H8=0),\"\",IF(AND($D$5=\"lll\",$G$5<>\"sen\"),AD8,IF(AND($D$5=\"ll\",$G$5<>\"sen\"),AC8,\"\")))","v":""},null,{"$f":"IF(OR(H8=0,ISBLANK(H8)),1000+A8,IF(ISNUMBER(H8),H8,MID(H8,4,5)))","v":1001},{"$f":"IF(AB8=\"tss\",Y8+100000,IF(AB8=\"te\",Y8+50000,IF(AB8=\"itf\",Y8+10000,Y8)))","v":{"$error":"#VALUE!"}},null,{"$f":"IF(ISNUMBER(H8),\"tss\",LEFT(H8,FIND(\" \",H8)-1))","v":{"$error":"#VALUE!"}},{"$f":"IF(AB8=\"atp\",\"NE MOŽE DA IGRA!!!\",IF(AND(AB8=\"itf\",Z8<10201),\"NE MOŽE DA IGRA!!!\",IF(AND(AB8=\"TE\",Z8<50201),\"NE MOŽE DA IGRA!!!\",IF(AND(AB8=\"TSS\",Z8<100011),\"NE MOŽE DA IGRA!!!\",\"\"))))","v":{"$error":"#VALUE!"}},{"$f":"IF(AB8=\"atp\",\"NE MOŽE DA IGRA!!!\",IF(AND(AB8=\"itf\",Z8<10201),\"NE MOŽE DA IGRA!!!\",IF(AND(AB8=\"TE\",Z8<50201),\"NE MOŽE DA IGRA!!!\",IF(AND(AB8=\"TSS\",Z8<100021),\"NE MOŽE DA IGRA!!!\",\"\"))))","v":{"$error":"#VALUE!"}}]
[2,null,null,null,null,null,null,null,null,null,null,null,null,null,null,0,null,null,null,null,null," ","",null,1002,{"$error":"#VALUE!"},null,{"$error":"#VALUE!"},{"$error":"#VALUE!"},{"$error":"#VALUE!"}]
[3,null,null,null,null,null,null,null,null,null,null,null,null,null,null,0,null,null,null,null,null," ","",null,1003,{"$error":"#VALUE!"},null,{"$error":"#VALUE!"},{"$error":"#VALUE!"},{"$error":"#VALUE!"}]
[4,null,null,null,null,null,null,null,null,null,null,null,null,null,null,0,null,null,null,null,null," ","",null,1004,{"$error":"#VALUE!"},null,{"$error":"#VALUE!"},{"$error":"#VALUE!"},{"$error":"#VALUE!"}]
[5,null,null,null,null,null,null,null,null,null,null,null,null,null,null,0,null,null,null,null,null," ","",null,1005,{"$error":"#VALUE!"},null,{"$error":"#VALUE!"},{"$error":"#VALUE!"},{"$error":"#VALUE!"}]
[6,null,null,null,null,null,null,null,null,null,null,null,null,null,null,0,null,null,null,null,null," ","",null,1006,{"$error":"#VALUE!"},null,{"$error":"#VALUE!"},{"$error":"#VALUE!"},{"$error":"#VALUE!"}]
[7,null,null,null,null,null,null,null,null,null,null,null,null,null,null,0,null,null,null,null,null," ","",null,1007,{"$error":"#VALUE!"},null,{"$error":"#VALUE!"},{"$error":"#VALUE!"},{"$error":"#VALUE!"}]
[8,null,null,null,null,null,null,null,null,null,null,null,null,null,null,0,null,null,null,null,null," ","",null,1008,{"$error":"#VALUE!"},null,{"$error":"#VALUE!"},{"$error":"#VALUE!"},{"$error":"#VALUE!"}]
[9,null,null,null,null,null,null,null,null,null,null,null,null,null,null,0,null,null,null,null,null," ","",null,1009,{"$error":"#VALUE!"},null,{"$error":"#VALUE!"},{"$error":"#VALUE!"},{"$error":"#VALUE!"}]
[10,null,null,null,null,null,null,null,null,null,null,null,null,null,null,0,null,null,null,null,null," ","",null,1010,{"$error":"#VALUE!"},null,{"$error":"#VALUE!"},{"$error":"#VALUE!"},{"$error":"#VALUE!"}]
[11,null,null,null,null,null,null,null,null,null,null,null,null,null,null,0,null,null,null,null,null," ","",null,1011,{"$error":"#VALUE!"},null,{"$error":"#VALUE!"},{"$error":"#VALUE!"},{"$error":"#VALUE!"}]
[12,null,null,null,null,null,null,null,null,null,null,null,null,null,null,0,null,null,null,null,null," ","",null,1012,{"$error":"#VALUE!"},null,{"$error":"#VALUE!"},{"$error":"#VALUE!"},{"$error":"#VALUE!"}]
[13,null,null,null,null,null,null,null,null,null,null,null,null,null,null,0,null,null,null,null,null," ","",null,1013,{"$error":"#VALUE!"},null,{"$error":"#VALUE!"},{"$error":"#VALUE!"},{"$error":"#VALUE!"}]
[14,null,null,null,null,null,null,null,null,null,null,null,null,null,null,0,null,null,null,null,null," ","",null,1014,{"$error":"#VALUE!"},null,{"$error":"#VALUE!"},{"$error":"#VALUE!"},{"$error":"#VALUE!"}]
[15,null,null,null,null,null,null,null,null,null,null,null,null,null,null,0,null,null,null,null,null," ","",null,1015,{"$error":"#VALUE!"},null,{"$error":"#VALUE!"},{"$error":"#VALUE!"},{"$error":"#VALUE!"}]
[16,null,null,null,null,null,null,null,null,null,null,null,null,null,null,0,null,null,null,null,null," ",null,null,1016,{"$error":"#VALUE!"},null,{"$error":"#VALUE!"},{"$error":"#VALUE!"},{"$error":"#VALUE!"}]
[17,null,null,null,null,null,null,null,null,null,null,null,null,null,null,0,null,null,null,null,null," ",null,null,1017,{"$error":"#VALUE!"},null,{"$error":"#VALUE!"},{"$error":"#VALUE!"},{"$error":"#VALUE!"}]
[18,null,null,null,null,null,null,null,null,null,null,null,null,null,null,0,null,null,null,null,null," ",{"$f":"IF(OR(ISBLANK(H25),H25=0),\"\",IF(AND($D$5=\"lll\",$G$5<>\"sen\"),AD25,IF(AND($D$5=\"ll\",$G$5<>\"sen\"),AC25,\"\")))","v":""},null,1018,{"$error":"#VALUE!"},null,{"$error":"#VALUE!"},{"$error":"#VALUE!"},{"$error":"#VALUE!"}]
[19,null,null,null,null,null,null,null,null,null,null,null,null,null,null,0,null,null,null,null,null," ","",null,1019,{"$error":"#VALUE!"},null,{"$error":"#VALUE!"},{"$error":"#VALUE!"},{"$error":"#VALUE!"}]
[20,null,null,null,null,null,null,null,null,null,null,null,null,null,null,0,null,null,null,null,null," ","",null,1020,{"$error":"#VALUE!"},null,{"$error":"#VALUE!"},{"$error":"#VALUE!"},{"$error":"#VALUE!"}]
[21,null,null,null,null,null,null,null,null,null,null,null,null,null,null,0,null,null,null,null,null," ","",null,1021,{"$error":"#VALUE!"},null,{"$error":"#VALUE!"},{"$error":"#VALUE!"},{"$error":"#VALUE!"}]
[22,null,null,null,null,null,null,null,null,null,null,null,null,null,null,0,null,null,null,null,null," ","",null,1022,{"$error":"#VALUE!"},null,{"$error":"#VALUE!"},{"$error":"#VALUE!"},{"$error":"#VALUE!"}]
[23,null,null,null,null,null,null,null,null,null,null,null,null,null,null,0,null,null,null,null,null," ","",null,1023,{"$error":"#VALUE!"},null,{"$error":"#VALUE!"},{"$error":"#VALUE!"},{"$error":"#VALUE!"}]
[24,null,null,null,null,null,null,null,null,null,null,null,null,null,null,0,null,null,null,null,null," ","",null,1024,{"$error":"#VALUE!"},null,{"$error":"#VALUE!"},{"$error":"#VALUE!"},{"$error":"#VALUE!"}]
[25,null,null,null,null,null,null,null,null,null,null,null,null,null,null,0,null,null,null,null,null," ","",null,1025,{"$error":"#VALUE!"},null,{"$error":"#VALUE!"},{"$error":"#VALUE!"},{"$error":"#VALUE!"}]
[26,null,null,null,null,null,null,null,null,null,null,null,null,null,null,0,null,null,null,null,null," ","",null,1026,{"$error":"#VALUE!"},null,{"$error":"#VALUE!"},{"$error":"#VALUE!"},{"$error":"#VALUE!"}]
[27,null,null,null,null,null,null,null,null,null,null,null,null,null,null,0,null,null,null,null,null," ","",null,1027,{"$error":"#VALUE!"},null,{"$error":"#VALUE!"},{"$error":"#VALUE!"},{"$error":"#VALUE!"}]
[28,null,null,null,null,null,null,null,null,null,null,null,null,null,null,0,null,null,null,null,null," ","",null,1028,{"$error":"#VALUE!"},null,{"$error":"#VALUE!"},{"$error":"#VALUE!"},{"$error":"#VALUE!"}]
[29,null,null,null,null,null,null,null,null,null,null,null,null,null,null,0,null,null,null,null,null," ","",null,1029,{"$error":"#VALUE!"},null,{"$error":"#VALUE!"},{"$error":"#VALUE!"},{"$error":"#VALUE!"}]
[30,null,null,null,null,null,null,null,null,null,null,null,null,null,null,0,null,null,null,null,null," ","",null,1030,{"$error":"#VALUE!"},null,{"$error":"#VALUE!"},{"$error":"#VALUE!"},{"$error":"#VALUE!"}]
[31,null,null,null,null,null,null,null,null,null,null,null,null,null,null,0,null,null,null,null,null," ","",null,1031,{"$error":"#VALUE!"},null,{"$error":"#VALUE!"},{"$error":"#VALUE!"},{"$error":"#VALUE!"}]
[32,null,null,null,null,null,null,null,null,null,null,null,null,null,null,0,null,null,null,null,null," ","",null,1032,{"$error":"#VALUE!"},null,{"$error":"#VALUE!"},{"$error":"#VALUE!"},{"$error":"#VALUE!"}]
[33,null,null,null,null,null,null,null,null,null,null,null,null,null,null,0,null,null,null,null,null," ","",null,1033,{"$error":"#VALUE!"},null,{"$error":"#VALUE!"},{"$error":"#VALUE!"},{"$error":"#VALUE!"}]
[34,null,null,null,null,null,null,null,null,null,null,null,null,null,null,0,null,null,null,null,null," ","",null,1034,{"$error":"#VALUE!"},null,{"$error":"#VALUE!"},{"$error":"#VALUE!"},{"$error":"#VALUE!"}]
[35,null,null,null,null,null,null,null,null,null,null,null,null,null,null,0,null,null,null,null,null," ","",null,1035,{"$error":"#VALUE!"},null,{"$error":"#VALUE!"},{"$error":"#VALUE!"},{"$error":"#VALUE!"}]
[36,null,null,null,null,null,null,null,null,null,null,null,null,null,null,0,null,null,null,null,null," ","",null,1036,{"$error":"#VALUE!"},null,{"$error":"#VALUE!"},{"$error":"#VALUE!"},{"$error":"#VALUE!"}]
[37,null,null,null,null,null,null,null,null,null,null,null,null,null,null,0,null,null,null,null,null," ","",null,1037,{"$error":"#VALUE!"},null,{"$error":"#VALUE!"},{"$error":"#VALUE!"},{"$error":"#VALUE!"}]
[38,null,null,null,null,null,null,null,null,null,null,null,null,null,null,0,null,null,null,null,null," ","",null,1038,{"$error":"#VALUE!"},null,{"$error":"#VALUE!"},{"$error":"#VALUE!"},{"$error":"#VALUE!"}]
[39,null,null,null,null,null,null,null,null,null,null,null,null,null,null,0,null,null,null,null,null," ","",null,1039,{"$error":"#VALUE!"},null,{"$error":"#VALUE!"},{"$error":"#VALUE!"},{"$error":"#VALUE!"}]
[40,null,null,null,null,null,null,null,null,null,null,null,null,null,null,0,null,null,null,null,null," ","",null,1040,{"$error":"#VALUE!"},null,{"$error":"#VALUE!"},{"$error":"#VALUE!"},{"$error":"#VALUE!"}]
[41,null,null,null,null,null,null,null,null,null,null,null,null,null,null,0,null,null,null,null,null," ","",null,1041,{"$error":"#VALUE!"},null,{"$error":"#VALUE!"},{"$error":"#VALUE!"},{"$error":"#VALUE!"}]
[42,null,null,null,null,null,null,null,null,null,null,null,null,null,null,0,null,null,null,null,null," ","",null,1042,{"$error":"#VALUE!"},null,{"$error":"#VALUE!"},{"$error":"#VALUE!"},{"$error":"#VALUE!"}]
[43,null,null,null,null,null,null,null,null,null,null,null,null,null,null,0,null,null,null,null,null," ","",null,1043,{"$error":"#VALUE!"},null,{"$error":"#VALUE!"},{"$error":"#VALUE!"},{"$error":"#VALUE!"}]
[44,null,null,null,null,null,null,null,null,null,null,null,null,null,null,0,null,null,null,null,null," ","",null,1044,{"$error":"#VALUE!"},null,{"$error":"#VALUE!"},{"$error":"#VALUE!"},{"$error":"#VALUE!"}]
[45,null,null,null,null,null,null,null,null,null,null,null,null,null,null,0,null,null,null,null,null," ","",null,1045,{"$error":"#VALUE!"},null,{"$error":"#VALUE!"},{"$error":"#VALUE!"},{"$error":"#VALUE!"}]
[46,null,null,null,null,null,null,null,null,null,null,null,null,null,null,0,null,null,null,null,null," ","",null,1046,{"$error":"#VALUE!"},null,{"$error":"#VALUE!"},{"$error":"#VALUE!"},{"$error":"#VALUE!"}]
[47,null,null,null,null,null,null,null,null,null,null,null,null,null,null,0,null,null,null,null,null," ","",null,1047,{"$error":"#VALUE!"},null,{"$error":"#VALUE!"},{"$error":"#VALUE!"},{"$error":"#VALUE!"}]
[48,null,null,null,null,null,null,null,null,null,null,null,null,null,null,0,null,null,null,null,null," ","",null,1048,{"$error":"#VALUE!"},null,{"$error":"#VALUE!"},{"$error":"#VALUE!"},{"$error":"#VALUE!"}]
[49,null,null,null,null,null,null,null,null,null,null,null,null,null,null,0,null,null,null,null,null," ","",null,1049,{"$error":"#VALUE!"},null,{"$error":"#VALUE!"},{"$error":"#VALUE!"},{"$error":"#VALUE!"}]
[50,null,null,null,null,null,null,null,null,null,null,null,null,null,null,0,null,null,null,null,null," ","",null,1050,{"$error":"#VALUE!"},null,{"$error":"#VALUE!"},{"$error":"#VALUE!"},{"$error":"#VALUE!"}]
[51,null,null,null,null,null,null,null,null,null,null,null,null,null,null,0,null,null,null,null,null," ","",null,1051,{"$error":"#VALUE!"},null,{"$error":"#VALUE!"},{"$error":"#VALUE!"},{"$error":"#VALUE!"}]
[52,null,null,null,null,null,null,null,null,null,null,null,null,null,null,0,null,null,null,null,null," ","",null,1052,{"$error":"#VALUE!"},null,{"$error":"#VALUE!"},{"$error":"#VALUE!"},{"$error":"#VALUE!"}]
[53,null,null,null,null,null,null,null,null,null,null,null,null,null,null,0,null,null,null,null,null," ","",null,1053,{"$error":"#VALUE!"},null,{"$error":"#VALUE!"},{"$error":"#VALUE!"},{"$error":"#VALUE!"}]
[54,null,null,null,null,null,null,null,null,null,null,null,null,null,null,0,null,null,null,null,null," ","",null,1054,{"$error":"#VALUE!"},null,{"$error":"#VALUE!"},{"$error":"#VALUE!"},{"$error":"#VALUE!"}]
[55,null,null,null,null,null,null,null,null,null,null,null,null,null,null,0,null,null,null,null,null," ","",null,1055,{"$error":"#VALUE!"},null,{"$error":"#VALUE!"},{"$error":"#VALUE!"},{"$error":"#VALUE!"}]
[56,null,null,null,null,null,null,null,null,null,null,null,null,null,null,0,null,null,null,null,null," ","",null,1056,{"$error":"#VALUE!"},null,{"$error":"#VALUE!"},{"$error":"#VALUE!"},{"$error":"#VALUE!"}]
[57,null,null,null,null,null,null,null,null,null,null,null,null,null,null,0,null,null,null,null,null," ","",null,1057,{"$error":"#VALUE!"},null,{"$error":"#VALUE!"},{"$error":"#VALUE!"},{"$error":"#VALUE!"}]
[58,null,null,null,null,null,null,null,null,null,null,null,null,null,null,0,null,null,null,null,null," ","",null,1058,{"$error":"#VALUE!"},null,{"$error":"#VALUE!"},{"$error":"#VALUE!"},{"$error":"#VALUE!"}]
[59,null,null,null,null,null,null,null,null,null,null,null,null,null,null,0,null,null,null,null,null," ","",null,1059,{"$error":"#VALUE!"},null,{"$error":"#VALUE!"},{"$error":"#VALUE!"},{"$error":"#VALUE!"}]
[60,null,null,null,null,null,null,null,null,null,null,null,null,null,null,0,null,null,null,null,null," ","",null,1060,{"$error":"#VALUE!"},null,{"$error":"#VALUE!"},{"$error":"#VALUE!"},{"$error":"#VALUE!"}]
[61,null,null,null,null,null,null,null,null,null,null,null,null,null,null,0,null,null,null,null,null," ","",null,1061,{"$error":"#VALUE!"},null,{"$error":"#VALUE!"},{"$error":"#VALUE!"},{"$error":"#VALUE!"}]
[62,null,null,null,null,null,null,null,null,null,null,null,null,null,null,0,null,null,null,null,null," ","",null,1062,{"$error":"#VALUE!"},null,{"$error":"#VALUE!"},{"$error":"#VALUE!"},{"$error":"#VALUE!"}]
[63,null,null,null,null,null,null,null,null,null,null,null,null,null,null,0,null,null,null,null,null," ","",null,1063,{"$error":"#VALUE!"},null,{"$error":"#VALUE!"},{"$error":"#VALUE!"},{"$error":"#VALUE!"}]
[64,null,null,null,null,null,null,null,null,null,null,null,null,null,null,0,null,null,null,null,null," ","",null,1064,{"$error":"#VALUE!"},null,{"$error":"#VALUE!"},{"$error":"#VALUE!"},{"$error":"#VALUE!"}]
[65,null,null,null,null,null,null,null,null,null,null,null,null,null,null,{"$f":"H72","v":0},null,null,null,null,null,{"$f":"B72&\" \"&C72","v":" "},"",null,{"$f":"IF(OR(H72=0,ISBLANK(H72)),1000+A72,IF(ISNUMBER(H72),H72,MID(H72,4,5)))","v":1065},{"$f":"IF(AB72=\"tss\",Y72+100000,IF(AB72=\"te\",Y72+50000,IF(AB72=\"itf\",Y72+10000,Y72)))","v":{"$error":"#VALUE!"}},null,{"$f":"IF(ISNUMBER(H72),\"tss\",LEFT(H72,FIND(\" \",H72)-1))","v":{"$error":"#VALUE!"}},{"$f":"IF(AB72=\"atp\",\"NE MOŽE DA IGRA!!!\",IF(AND(AB72=\"itf\",Z72<10201),\"NE MOŽE DA IGRA!!!\",IF(AND(AB72=\"TE\",Z72<50201),\"NE MOŽE DA IGRA!!!\",IF(AND(AB72=\"TSS\",Z72<100011),\"NE MOŽE DA IGRA!!!\",\"\"))))","v":{"$error":"#VALUE!"}},{"$f":"IF(AB72=\"atp\",\"NE MOŽE DA IGRA!!!\",IF(AND(AB72=\"itf\",Z72<10201),\"NE MOŽE DA IGRA!!!\",IF(AND(AB72=\"TE\",Z72<50201),\"NE MOŽE DA IGRA!!!\",IF(AND(AB72=\"TSS\",Z72<100021),\"NE MOŽE DA IGRA!!!\",\"\"))))","v":{"$error":"#VALUE!"}}]
[66,null,null,null,null,null,null,null,null,null,null,null,null,null,null,0,null,null,null,null,null," ","",null,1066,{"$error":"#VALUE!"},null,{"$error":"#VALUE!"},{"$error":"#VALUE!"},{"$error":"#VALUE!"}]
[67,null,null,null,null,null,null,null,null,null,null,null,null,null,null,0,null,null,null,null,null," ",null,null,1067,{"$error":"#VALUE!"},null,{"$error":"#VALUE!"},{"$error":"#VALUE!"},{"$error":"#VALUE!"}]
[68,null,null,null,null,null,null,null,null,null,null,null,null,null,null,0,null,null,null,null,null," ",null,null,1068,{"$error":"#VALUE!"},null,{"$error":"#VALUE!"},{"$error":"#VALUE!"},{"$error":"#VALUE!"}]
[69,null,null,null,null,null,null,null,null,null,null,null,null,null,null,0,null,null,null,null,null," ",null,null,1069,{"$error":"#VALUE!"},null,{"$error":"#VALUE!"},{"$error":"#VALUE!"},{"$error":"#VALUE!"}]
[70,null,null,null,null,null,null,null,null,null,null,null,null,null,null,0,null,null,null,null,null," ",null,null,1070,{"$error":"#VALUE!"},null,{"$error":"#VALUE!"},{"$error":"#VALUE!"},{"$error":"#VALUE!"}]
[71,null,null,null,null,null,null,null,null,null,null,null,null,null,null,0,null,null,null,null,null," ",null,null,1071,{"$error":"#VALUE!"},null,{"$error":"#VALUE!"},{"$error":"#VALUE!"},{"$error":"#VALUE!"}]
[72,null,null,null,null,null,null,null,null,null,null,null,null,null,null,0,null,null,null,null,null," ",null,null,1072,{"$error":"#VALUE!"},null,{"$error":"#VALUE!"},{"$error":"#VALUE!"},{"$error":"#VALUE!"}]
[73,null,null,null,null,null,null,null,null,null,null,null,null,null,null,0,null,null,null,null,null," ",null,null,1073,{"$error":"#VALUE!"},null,{"$error":"#VALUE!"},{"$error":"#VALUE!"},{"$error":"#VALUE!"}]
[74,null,null,null,null,null,null,null,null,null,null,null,null,null,null,0,null,null,null,null,null," ",null,null,1074,{"$error":"#VALUE!"},null,{"$error":"#VALUE!"},{"$error":"#VALUE!"},{"$error":"#VALUE!"}]
[75,null,null,null,null,null,null,null,null,null,null,null,null,null,null,0,null,null,null,null,null," ",null,null,1075,{"$error":"#VALUE!"},null,{"$error":"#VALUE!"},{"$error":"#VALUE!"},{"$error":"#VALUE!"}]
[76,null,null,null,null,null,null,null,null,null,null,null,null,null,null,0,null,null,null,null,null," ",null,null,1076,{"$error":"#VALUE!"},null,{"$error":"#VALUE!"},{"$error":"#VALUE!"},{"$error":"#VALUE!"}]
[77,null,null,null,null,null,null,null,null,null,null,null,null,null,null,0,null,null,null,null,null," ",null,null,1077,{"$error":"#VALUE!"},null,{"$error":"#VALUE!"},{"$error":"#VALUE!"},{"$error":"#VALUE!"}]
[78,null,null,null,null,null,null,null,null,null,null,null,null,null,null,0,null,null,null,null,null," ",null,null,1078,{"$error":"#VALUE!"},null,{"$error":"#VALUE!"},{"$error":"#VALUE!"},{"$error":"#VALUE!"}]
[79,null,null,null,null,null,null,null,null,null,null,null,null,null,null,0,null,null,null,null,null," ",null,null,1079,{"$error":"#VALUE!"},null,{"$error":"#VALUE!"},{"$error":"#VALUE!"},{"$error":"#VALUE!"}]
[80,null,null,null,null,null,null,null,null,null,null,null,null,null,null,0,null,null,null,null,null," ",null,null,1080,{"$error":"#VALUE!"},null,{"$error":"#VALUE!"},{"$error":"#VALUE!"},{"$error":"#VALUE!"}]
[81,null,null,null,null,null,null,null,null,null,null,null,null,null,null,0,null,null,null,null,null," ",null,null,1081,{"$error":"#VALUE!"},null,{"$error":"#VALUE!"},{"$error":"#VALUE!"},{"$error":"#VALUE!"}]
[82,null,null,null,null,null,null,null,null,null,null,null,null,null,null,0,null,null,null,null,null," ",null,null,1082,{"$error":"#VALUE!"},null,{"$error":"#VALUE!"},{"$error":"#VALUE!"},{"$error":"#VALUE!"}]
[83,null,null,null,null,null,null,null,null,null,null,null,null,null,null,0,null,null,null,null,null," ",null,null,1083,{"$error":"#VALUE!"},null,{"$error":"#VALUE!"},{"$error":"#VALUE!"},{"$error":"#VALUE!"}]
[84,null,null,null,null,null,null,null,null,null,null,null,null,null,null,0,null,null,null,null,null," ",null,null,1084,{"$error":"#VALUE!"},null,{"$error":"#VALUE!"},{"$error":"#VALUE!"},{"$error":"#VALUE!"}]
[85,null,null,null,null,null,null,null,null,null,null,null,null,null,null,0,null,null,null,null,null," ",null,null,1085,{"$error":"#VALUE!"},null,{"$error":"#VALUE!"},{"$error":"#VALUE!"},{"$error":"#VALUE!"}]
[86,null,null,null,null,null,null,null,null,null,null,null,null,null,null,0,null,null,null,null,null," ",null,null,1086,{"$error":"#VALUE!"},null,{"$error":"#VALUE!"},{"$error":"#VALUE!"},{"$error":"#VALUE!"}]
[87,null,null,null,null,null,null,null,null,null,null,null,null,null,null,0,null,null,null,null,null," ",null,null,1087,{"$error":"#VALUE!"},null,{"$error":"#VALUE!"},{"$error":"#VALUE!"},{"$error":"#VALUE!"}]
[88,null,null,null,null,null,null,null,null,null,null,null,null,null,null,0,null,null,null,null,null," ",null,null,1088,{"$error":"#VALUE!"},null,{"$error":"#VALUE!"},{"$error":"#VALUE!"},{"$error":"#VALUE!"}]
[89,null,null,null,null,null,null,null,null,null,null,null,null,null,null,0,null,null,null,null,null," ",null,null,1089,{"$error":"#VALUE!"},null,{"$error":"#VALUE!"},{"$error":"#VALUE!"},{"$error":"#VALUE!"}]
[90,null,null,null,null,null,null,null,null,null,null,null,null,null,null,0,null,null,null,null,null," ",null,null,1090,{"$error":"#VALUE!"},null,{"$error":"#VALUE!"},{"$error":"#VALUE!"},{"$error":"#VALUE!"}]
[91,null,null,null,null,null,null,null,null,null,null,null,null,null,null,0,null,null,null,null,null," ",null,null,1091,{"$error":"#VALUE!"},null,{"$error":"#VALUE!"},{"$error":"#VALUE!"},{"$error":"#VALUE!"}]
[92,null,null,null,null,null,null,null,null,null,null,null,null,null,null,0,null,null,null,null,null," ",null,null,1092,{"$error":"#VALUE!"},null,{"$error":"#VALUE!"},{"$error":"#VALUE!"},{"$error":"#VALUE!"}]
[93,null,null,null,null,null,null,null,null,null,null,null,null,null,null,0,null,null,null,null,null," ",null,null,1093,{"$error":"#VALUE!"},null,{"$error":"#VALUE!"},{"$error":"#VALUE!"},{"$error":"#VALUE!"}]
[94,null,null,null,null,null,null,null,null,null,null,null,null,null,null,0,null,null,null,null,null," ",null,null,1094,{"$error":"#VALUE!"},null,{"$error":"#VALUE!"},{"$error":"#VALUE!"},{"$error":"#VALUE!"}]
[95,null,null,null,null,null,null,null,null,null,null,null,null,null,null,0,null,null,null,null,null," ",null,null,1095,{"$error":"#VALUE!"},null,{"$error":"#VALUE!"},{"$error":"#VALUE!"},{"$error":"#VALUE!"}]
[96,null,null,null,null,null,null,null,null,null,null,null,null,null,null,0,null,null,null,null,null," ",null,null,1096,{"$error":"#VALUE!"},null,{"$error":"#VALUE!"},{"$error":"#VALUE!"},{"$error":"#VALUE!"}]
[97,null,null,null,null,null,null,null,null,null,null,null,null,null,null,0,null,null,null,null,null," ",null,null,1097,{"$error":"#VALUE!"},null,{"$error":"#VALUE!"},{"$error":"#VALUE!"},{"$error":"#VALUE!"}]
[98,null,null,null,null,null,null,null,null,null,null,null,null,null,null,0,null,null,null,null,null," ",null,null,1098,{"$error":"#VALUE!"},null,{"$error":"#VALUE!"},{"$error":"#VALUE!"},{"$error":"#VALUE!"}]
[99,null,null,null,null,null,null,null,null,null,null,null,null,null,null,0,null,null,null,null,null," ",null,null,1099,{"$error":"#VALUE!"},null,{"$error":"#VALUE!"},{"$error":"#VALUE!"},{"$error":"#VALUE!"}]
[100,null,null,null,null,null,null,null,null,null,null,null,null,null,null,0,null,null,null,null,null," ",null,null,1100,{"$error":"#VALUE!"},null,{"$error":"#VALUE!"},{"$error":"#VALUE!"},{"$error":"#VALUE!"}]
[101,null,null,null,null,null,null,null,null,null,null,null,null,null,null,0,null,null,null,null,null," ",null,null,1101,{"$error":"#VALUE!"},null,{"$error":"#VALUE!"},{"$error":"#VALUE!"},{"$error":"#VALUE!"}]
[102,null,null,null,null,null,null,null,null,null,null,null,null,null,null,0,null,null,null,null,null," ",null,null,1102,{"$error":"#VALUE!"},null,{"$error":"#VALUE!"},{"$error":"#VALUE!"},{"$error":"#VALUE!"}]
[103,null,null,null,null,null,null,null,null,null,null,null,null,null,null,0,null,null,null,null,null," ",null,null,1103,{"$error":"#VALUE!"},null,{"$error":"#VALUE!"},{"$error":"#VALUE!"},{"$error":"#VALUE!"}]
[104,null,null,null,null,null,null,null,null,null,null,null,null,null,null,0,null,null,null,null,null," ",null,null,1104,{"$error":"#VALUE!"},null,{"$error":"#VALUE!"},{"$error":"#VALUE!"},{"$error":"#VALUE!"}]
[105,null,null,null,null,null,null,null,null,null,null,null,null,null,null,0,null,null,null,null,null," ",null,null,1105,{"$error":"#VALUE!"},null,{"$error":"#VALUE!"},{"$error":"#VALUE!"},{"$error":"#VALUE!"}]
[106,null,null,null,null,null,null,null,null,null,null,null,null,null,null,0,null,null,null,null,null," ",null,null,1106,{"$error":"#VALUE!"},null,{"$error":"#VALUE!"},{"$error":"#VALUE!"},{"$error":"#VALUE!"}]
[107,null,null,null,null,null,null,null,null,null,null,null,null,null,null,0,null,null,null,null,null," ",null,null,1107,{"$error":"#VALUE!"},null,{"$error":"#VALUE!"},{"$error":"#VALUE!"},{"$error":"#VALUE!"}]
[108,null,null,null,null,null,null,null,null,null,null,null,null,null,null,0,null,null,null,null,null," ",null,null,1108,{"$error":"#VALUE!"},null,{"$error":"#VALUE!"},{"$error":"#VALUE!"},{"$error":"#VALUE!"}]
[109,null,null,null,null,null,null,null,null,null,null,null,null,null,null,0,null,null,null,null,null," ",null,null,1109,{"$error":"#VALUE!"},null,{"$error":"#VALUE!"},{"$error":"#VALUE!"},{"$error":"#VALUE!"}]
[110,null,null,null,null,null,null,null,null,null,null,null,null,null,null,0,null,null,null,null,null," ",null,null,1110,{"$error":"#VALUE!"},null,{"$error":"#VALUE!"},{"$error":"#VALUE!"},{"$error":"#VALUE!"}]
[111,null,null,null,null,null,null,null,null,null,null,null,null,null,null,0,null,null,null,null,null," ",null,null,1111,{"$error":"#VALUE!"},null,{"$error":"#VALUE!"},{"$error":"#VALUE!"},{"$error":"#VALUE!"}]
[112,null,null,null,null,null,null,null,null,null,null,null,null,null,null,0,null,null,null,null,null," ",null,null,1112,{"$error":"#VALUE!"},null,{"$error":"#VALUE!"},{"$error":"#VALUE!"},{"$error":"#VALUE!"}]
[113,null,null,null,null,null,null,null,null,null,null,null,null,null,null,0,null,null,null,null,null," ",null,null,1113,{"$error":"#VALUE!"},null,{"$error":"#VALUE!"},{"$error":"#VALUE!"},{"$error":"#VALUE!"}]
[114,null,null,null,null,null,null,null,null,null,null,null,null,null,null,0,null,null,null,null,null," ",null,null,1114,{"$error":"#VALUE!"},null,{"$error":"#VALUE!"},{"$error":"#VALUE!"},{"$error":"#VALUE!"}]
[115,null,null,null,null,null,null,null,null,null,null,null,null,null,null,0,null,null,null,null,null," ",null,null,1115,{"$error":"#VALUE!"},null,{"$error":"#VALUE!"},{"$error":"#VALUE!"},{"$error":"#VALUE!"}]
[116,null,null,null,null,null,null,null,null,null,null,null,null,null,null,0,null,null,null,null,null," ",null,null,1116,{"$error":"#VALUE!"},null,{"$error":"#VALUE!"},{"$error":"#VALUE!"},{"$error":"#VALUE!"}]
[117,null,null,null,null,null,null,null,null,null,null,null,null,null,null,0,null,null,null,null,null," ",null,null,1117,{"$error":"#VALUE!"},null,{"$error":"#VALUE!"},{"$error":"#VALUE!"},{"$error":"#VALUE!"}]
[118,null,null,null,null,null,null,null,null,null,null,null,null,null,null,0,null,null,null,null,null," ",null,null,1118,{"$error":"#VALUE!"},null,{"$error":"#VALUE!"},{"$error":"#VALUE!"},{"$error":"#VALUE!"}]
[119,null,null,null,null,null,null,null,null,null,null,null,null,null,null,0,null,null,null,null,null," ",null,null,1119,{"$error":"#VALUE!"},null,{"$error":"#VALUE!"},{"$error":"#VALUE!"},{"$error":"#VALUE!"}]
[120,null,null,null,null,null,null,null,null,null,null,null,null,null,null,0,null,null,null,null,null," ",null,null,1120,{"$error":"#VALUE!"},null,{"$error":"#VALUE!"},{"$error":"#VALUE!"},{"$error":"#VALUE!"}]
[121,null,null,null,null,null,null,null,null,null,null,null,null,null,null,0,null,null,null,null,null," ",null,null,1121,{"$error":"#VALUE!"},null,{"$error":"#VALUE!"},{"$error":"#VALUE!"},{"$error":"#VALUE!"}]
[122,null,null,null,null,null,null,null,null,null,null,null,null,null,null,0,null,null,null,null,null," ",null,null,1122,{"$error":"#VALUE!"},null,{"$error":"#VALUE!"},{"$error":"#VALUE!"},{"$error":"#VALUE!"}]
[123,null,null,null,null,null,null,null,null,null,null,null,null,null,null,0,null,null,null,null,null," ",null,null,1123,{"$error":"#VALUE!"},null,{"$error":"#VALUE!"},{"$error":"#VALUE!"},{"$error":"#VALUE!"}]
[124,null,null,null,null,null,null,null,null,null,null,null,null,null,null,0,null,null,null,null,null," ",null,null,1124,{"$error":"#VALUE!"},null,{"$error":"#VALUE!"},{"$error":"#VALUE!"},{"$error":"#VALUE!"}]
[125,null,null,null,null,null,null,null,null,null,null,null,null,null,null,0,null,null,null,null,null," ",null,null,1125,{"$error":"#VALUE!"},null,{"$error":"#VALUE!"},{"$error":"#VALUE!"},{"$error":"#VALUE!"}]
[126,null,null,null,null,null,null,null,null,null,null,null,null,null,null,0,null,null,null,null,null," ",null,null,1126,{"$error":"#VALUE!"},null,{"$error":"#VALUE!"},{"$error":"#VALUE!"},{"$error":"#VALUE!"}]
[127,null,null,null,null,null,null,null,null,null,null,null,null,null,null,0,null,null,null,null,null," ",null,null,1127,{"$error":"#VALUE!"},null,{"$error":"#VALUE!"},{"$error":"#VALUE!"},{"$error":"#VALUE!"}]
[128,null,null,null,null,null,null,null,null,null,null,null,null,null,null,0,null,null,null,null,null," "]

{"sheet":"Zreb16","index":1,"n_rows":48,"n_cols":29,"rows_kept":48,"cut":false,"hidden":false,"merged":[[14,2,14,6],[14,9,14,12],[14,13,15,13],[2,16,2,17],[14,16,14,17],[1,0,1,18],[2,2,2,6],[2,9,2,12],[2,13,3,13],[13,0,13,18],[38,2,38,6],[38,9,38,12],[38,13,39,13],[26,16,26,17],[38,16,38,17],[25,0,25,18],[26,2,26,6],[26,9,26,12],[26,13,27,13],[37,0,37,18]]}
[]
["DEČACI DO 12 GOD."]
[null,"Početak","IGRAC  1",null,null,null,null,null,null,"IGRAC 2",null,null,null,"POBEDNIK\n1 ILI 2",null,null,"POBEDNIK"]
[null,"meča","PREZIME","IME","KLUB","DATUM ROĐENJA","TAKMIČARSKA LEGITIMACIJA",null,null,"PREZIME","IME","DATUM ROĐENJA","TAKMIČARSKA LEGITIMACIJA",null,"sifra w","sifra L","PREZIME","IME","REZULTAT"]
["MEC 1","09.00h","STEFANOVIĆ","NIKOLA",{"$f":"UPPER(IF(($B5=0) + ($B5=\" \"),\"\",VLOOKUP($B5,'PRIPREMA '!$A$8:$O$23,4)))","v":{"$error":"#N/A"}},{"$f":"UPPER(IF(($B5=0) + ($B5=\" \"),\"\",VLOOKUP($B5,'PRIPREMA '!$A$8:$O$23,5)))","v":{"$error":"#N/A"}},{"$f":"UPPER(IF(($B5=0) + ($B5=\" \"),\"\",VLOOKUP($B5,'PRIPREMA '!$A$8:$O$23,6)))","v":{"$error":"#N/A"}},"VS",null,"KOSTIĆ","LUKA",{"$f":"UPPER(IF(($I5=0) + ($I5=\" \"),\"\",VLOOKUP($I5,'PRIPREMA '!$A$8:$O$23,5)))","v":""},{"$f":"UPPER(IF(($I5=0) + ($I5=\" \"),\"\",VLOOKUP($I5,'PRIPREMA '!$A$8:$O$23,6)))","v":""},null,{"$f":"IF($N5=1,$B5,IF($N5=2,$I5,\" \"))","v":" "},{"$f":"IF($N5=1,$I5,IF($N5=2,$B5,\" \"))","v":" "},{"$f":"UPPER(IF(($O5=0) + ($O5=\" \"),\"\",VLOOKUP($O5,'PRIPREMA '!$A$8:$C$23,2)))","v":""},{"$f":"UPPER(IF(($O5=0) + ($O5=\" \"),\"\",VLOOKUP($O5,'PRIPREMA '!$A$8:$C$23,3)))","v":""}]
["MEC 2","09.00h","PERIĆ","LUKA",{"$f":"UPPER(IF(($B6=0) + ($B6=\" \"),\"\",VLOOKUP($B6,'PRIPREMA '!$A$8:$O$23,4)))","v":{"$error":"#N/A"}},{"$f":"UPPER(IF(($B6=0) + ($B6=\" \"),\"\",VLOOKUP($B6,'PRIPREMA '!$A$8:$O$23,5)))","v":{"$error":"#N/A"}},{"$f":"UPPER(IF(($B6=0) + ($B6=\" \"),\"\",VLOOKUP($B6,'PRIPREMA '!$A$8:$O$23,6)))","v":{"$error":"#N/A"}},"VS",null,"MLADENOVIĆ","JANKO",{"$f":"UPPER(IF(($I6=0) + ($I6=\" \"),\"\",VLOOKUP($I6,'PRIPREMA '!$A$8:$O$23,5)))","v":""},{"$f":"UPPER(IF(($I6=0) + ($I6=\" \"),\"\",VLOOKUP($I6,'PRIPREMA '!$A$8:$O$23,6)))","v":""},null," "," ",{"$f":"UPPER(IF(($O6=0) + ($O6=\" \"),\"\",VLOOKUP($O6,'PRIPREMA '!$A$8:$C$23,2)))","v":""},{"$f":"UPPER(IF(($O6=0) + ($O6=\" \"),\"\",VLOOKUP($O6,'PRIPREMA '!$A$8:$C$23,3)))","v":""},null,null,null,"Pozicija","Prezime ","Ime","Bodovi"]
["MEC 3","09.00h","PETROVIĆ","RADOVAN",{"$f":"UPPER(IF(($B7=0) + ($B7=\" \"),\"\",VLOOKUP($B7,'PRIPREMA '!$A$8:$O$23,4)))","v":{"$error":"#N/A"}},{"$f":"UPPER(IF(($B7=0) + ($B7=\" \"),\"\",VLOOKUP($B7,'PRIPREMA '!$A$8:$O$23,5)))","v":{"$error":"#N/A"}},{"$f":"UPPER(IF(($B7=0) + ($B7=\" \"),\"\",VLOOKUP($B7,'PRIPREMA '!$A$8:$O$23,6)))","v":{"$error":"#N/A"}},"VS",null,"KRASIĆ","DIMITRIJE",{"$f":"UPPER(IF(($I7=0) + ($I7=\" \"),\"\",VLOOKUP($I7,'PRIPREMA '!$A$8:$O$23,5)))","v":""},{"$f":"UPPER(IF(($I7=0) + ($I7=\" \"),\"\",VLOOKUP($I7,'PRIPREMA '!$A$8:$O$23,6)))","v":""},null," "," ",{"$f":"UPPER(IF(($O7=0) + ($O7=\" \"),\"\",VLOOKUP($O7,'PRIPREMA '!$A$8:$C$23,2)))","v":""},{"$f":"UPPER(IF(($O7=0) + ($O7=\" \"),\"\",VLOOKUP($O7,'PRIPREMA '!$A$8:$C$23,3)))","v":""},null,null,null,1,{"$f":"'RADNI 16'!$J4","v":0},{"$f":"'RADNI 16'!$K4","v":0},{"$f":"'RADNI 16'!L4","v":0}]
["MEC 4","09.00h","ŽIVADINOVIĆ","VASILIJE",{"$f":"UPPER(IF(($B8=0) + ($B8=\" \"),\"\",VLOOKUP($B8,'PRIPREMA '!$A$8:$O$23,4)))","v":{"$error":"#N/A"}},{"$f":"UPPER(IF(($B8=0) + ($B8=\" \"),\"\",VLOOKUP($B8,'PRIPREMA '!$A$8:$O$23,5)))","v":{"$error":"#N/A"}},{"$f":"UPPER(IF(($B8=0) + ($B8=\" \"),\"\",VLOOKUP($B8,'PRIPREMA '!$A$8:$O$23,6)))","v":{"$error":"#N/A"}},"VS",null,"MARIĆ","MILUTIN",{"$f":"UPPER(IF(($I8=0) + ($I8=\" \"),\"\",VLOOKUP($I8,'PRIPREMA '!$A$8:$O$23,5)))","v":""},{"$f":"UPPER(IF(($I8=0) + ($I8=\" \"),\"\",VLOOKUP($I8,'PRIPREMA '!$A$8:$O$23,6)))","v":""},null," "," ",{"$f":"UPPER(IF(($O8=0) + ($O8=\" \"),\"\",VLOOKUP($O8,'PRIPREMA '!$A$8:$C$23,2)))","v":""},{"$f":"UPPER(IF(($O8=0) + ($O8=\" \"),\"\",VLOOKUP($O8,'PRIPREMA '!$A$8:$C$23,3)))","v":""},null,null,null,2,{"$f":"'RADNI 16'!$J5","v":0},{"$f":"'RADNI 16'!$K5","v":0},{"$f":"'RADNI 16'!L5","v":0}]
["MEC 5","09.00h","STOJANOVIĆ","MATIJA",{"$f":"UPPER(IF(($B9=0) + ($B9=\" \"),\"\",VLOOKUP($B9,'PRIPREMA '!$A$8:$O$23,4)))","v":{"$error":"#N/A"}},{"$f":"UPPER(IF(($B9=0) + ($B9=\" \"),\"\",VLOOKUP($B9,'PRIPREMA '!$A$8:$O$23,5)))","v":{"$error":"#N/A"}},{"$f":"UPPER(IF(($B9=0) + ($B9=\" \"),\"\",VLOOKUP($B9,'PRIPREMA '!$A$8:$O$23,6)))","v":{"$error":"#N/A"}},"VS",null,"ALEKSIĆ","JOVAN",{"$f":"UPPER(IF(($I9=0) + ($I9=\" \"),\"\",VLOOKUP($I9,'PRIPREMA '!$A$8:$O$23,5)))","v":""},{"$f":"UPPER(IF(($I9=0) + ($I9=\" \"),\"\",VLOOKUP($I9,'PRIPREMA '!$A$8:$O$23,6)))","v":""},null," "," ",{"$f":"UPPER(IF(($O9=0) + ($O9=\" \"),\"\",VLOOKUP($O9,'PRIPREMA '!$A$8:$C$23,2)))","v":""},{"$f":"UPPER(IF(($O9=0) + ($O9=\" \"),\"\",VLOOKUP($O9,'PRIPREMA '!$A$8:$C$23,3)))","v":""},null,null,null,3,{"$f":"'RADNI 16'!$J6","v":0},{"$f":"'RADNI 16'!$K6","v":0},{"$f":"'RADNI 16'!L6","v":0}]
["MEC 6","10.30h","ŽIVKOVIĆ","LUKA",{"$f":"UPPER(IF(($B10=0) + ($B10=\" \"),\"\",VLOOKUP($B10,'PRIPREMA '!$A$8:$O$23,4)))","v":{"$error":"#N/A"}},{"$f":"UPPER(IF(($B10=0) + ($B10=\" \"),\"\",VLOOKUP($B10,'PRIPREMA '!$A$8:$O$23,5)))","v":{"$error":"#N/A"}},{"$f":"UPPER(IF(($B10=0) + ($B10=\" \"),\"\",VLOOKUP($B10,'PRIPREMA '!$A$8:$O$23,6)))","v":{"$error":"#N/A"}},"VS",null,"MILOVANOVIĆ","ANDREJ",{"$f":"UPPER(IF(($I10=0) + ($I10=\" \"),\"\",VLOOKUP($I10,'PRIPREMA '!$A$8:$O$23,5)))","v":""},{"$f":"UPPER(IF(($I10=0) + ($I10=\" \"),\"\",VLOOKUP($I10,'PRIPREMA '!$A$8:$O$23,6)))","v":""},null," "," ",{"$f":"UPPER(IF(($O10=0) + ($O10=\" \"),\"\",VLOOKUP($O10,'PRIPREMA '!$A$8:$C$23,2)))","v":""},{"$f":"UPPER(IF(($O10=0) + ($O10=\" \"),\"\",VLOOKUP($O10,'PRIPREMA '!$A$8:$C$23,3)))","v":""},null,null,null,4,{"$f":"'RADNI 16'!$J7","v":0},{"$f":"'RADNI 16'!$K7","v":0},{"$f":"'RADNI 16'!L7","v":0}]
["MEC 7 ","10.30h","JOVANOVIĆ","FILIP",{"$f":"UPPER(IF(($B11=0) + ($B11=\" \"),\"\",VLOOKUP($B11,'PRIPREMA '!$A$8:$O$23,4)))","v":{"$error":"#N/A"}},{"$f":"UPPER(IF(($B11=0) + ($B11=\" \"),\"\",VLOOKUP($B11,'PRIPREMA '!$A$8:$O$23,5)))","v":{"$error":"#N/A"}},{"$f":"UPPER(IF(($B11=0) + ($B11=\" \"),\"\",VLOOKUP($B11,'PRIPREMA '!$A$8:$O$23,6)))","v":{"$error":"#N/A"}},"VS",null,"STAMENKOVIĆ","VLADA",{"$f":"UPPER(IF(($I11=0) + ($I11=\" \"),\"\",VLOOKUP($I11,'PRIPREMA '!$A$8:$O$23,5)))","v":""},{"$f":"UPPER(IF(($I11=0) + ($I11=\" \"),\"\",VLOOKUP($I11,'PRIPREMA '!$A$8:$O$23,6)))","v":""},null," "," ",{"$f":"UPPER(IF(($O11=0) + ($O11=\" \"),\"\",VLOOKUP($O11,'PRIPREMA '!$A$8:$C$23,2)))","v":""},{"$f":"UPPER(IF(($O11=0) + ($O11=\" \"),\"\",VLOOKUP($O11,'PRIPREMA '!$A$8:$C$23,3)))","v":""},null,null,null,5,{"$f":"'RADNI 16'!$J8","v":0},{"$f":"'RADNI 16'!$K8","v":0},{"$f":"'RADNI 16'!L8","v":0}]
["MEC 8",null,{"$f":"UPPER(IF(($B12=0) + ($B12=\" \"),\"\",VLOOKUP($B12,'PRIPREMA '!$A$8:$O$23,2)))","v":""},{"$f":"UPPER(IF(($B12=0) + ($B12=\" \"),\"\",VLOOKUP($B12,'PRIPREMA '!$A$8:$O$23,3)))","v":""},{"$f":"UPPER(IF(($B12=0) + ($B12=\" \"),\"\",VLOOKUP($B12,'PRIPREMA '!$A$8:$O$23,4)))","v":""},{"$f":"UPPER(IF(($B12=0) + ($B12=\" \"),\"\",VLOOKUP($B12,'PRIPREMA '!$A$8:$O$23,5)))","v":""},{"$f":"UPPER(IF(($B12=0) + ($B12=\" \"),\"\",VLOOKUP($B12,'PRIPREMA '!$A$8:$O$23,6)))","v":""},"VS",null,{"$f":"UPPER(IF(($I12=0) + ($I12=\" \"),\"\",VLOOKUP($I12,'PRIPREMA '!$A$8:$O$23,2)))","v":""},{"$f":"UPPER(IF(($I12=0) + ($I12=\" \"),\"\",VLOOKUP($I12,'PRIPREMA '!$A$8:$O$23,3)))","v":""},{"$f":"UPPER(IF(($I12=0) + ($I12=\" \"),\"\",VLOOKUP($I12,'PRIPREMA '!$A$8:$O$23,5)))","v":""},{"$f":"UPPER(IF(($I12=0) + ($I12=\" \"),\"\",VLOOKUP($I12,'PRIPREMA '!$A$8:$O$23,6)))","v":""},null," "," ",{"$f":"UPPER(IF(($O12=0) + ($O12=\" \"),\"\",VLOOKUP($O12,'PRIPREMA '!$A$8:$C$23,2)))","v":""},{"$f":"UPPER(IF(($O12=0) + ($O12=\" \"),\"\",VLOOKUP($O12,'PRIPREMA '!$A$8:$C$23,3)))","v":""},null,null,null,6,{"$f":"'RADNI 16'!$J9","v":0},{"$f":"'RADNI 16'!$K9","v":0},{"$f":"'RADNI 16'!L9","v":0}]
[null,null,null,null,null,null,null,null,null,null,null,null,null,null,null,null,null,null,null,null,null,7,{"$f":"'RADNI 16'!$J10","v":0},{"$f":"'RADNI 16'!$K10","v":0},{"$f":"'RADNI 16'!L10","v":0}]
["DEVOJČICE DO 12 GOD.",null,null,null,null,null,null,null,null,null,null,null,null,null,null,null,null,null,null,null,null,8,{"$f":"'RADNI 16'!$J11","v":0},{"$f":"'RADNI 16'!$K11","v":0},{"$f":"'RADNI 16'!L11","v":0}]
[null,"Početak","IGRAC  1",null,null,null,null,null,null,"IGRAC 2",null,null,null,"POBEDNIK\n1 ILI 2",null,null,"POBEDNIK",null,null,null,null,9,{"$f":"'RADNI 16'!$J12","v":0},{"$f":"'RADNI 16'!$K12","v":0},{"$f":"'RADNI 16'!L12","v":0}]
[null,"meča","IME","PREZIME","KLUB","DATUM ROĐENJA","TAKMIČARSKA LEGITIMACIJA",null,null,"IME","PREZIME","DATUM ROĐENJA","TAKMIČARSKA LEGITIMACIJA",null,"sifra w","sifra L","PREZIME","IME","REZULTAT",null,null,10,{"$f":"'RADNI 16'!$J13","v":0},{"$f":"'RADNI 16'!$K13","v":0},{"$f":"'RADNI 16'!L13","v":0}]
["MEC 1","10.30h","ENA ","ILIĆ",{"$f":"UPPER(IF(($B17=0) + ($B17=\" \"),\"\",VLOOKUP($B17,'PRIPREMA '!$A$8:$O$23,4)))","v":{"$error":"#N/A"}},{"$f":"UPPER(IF(($B17=0) + ($B17=\" \"),\"\",VLOOKUP($B17,'PRIPREMA '!$A$8:$O$23,5)))","v":{"$error":"#N/A"}},{"$f":"UPPER(IF(($B17=0) + ($B17=\" \"),\"\",VLOOKUP($B17,'PRIPREMA '!$A$8:$O$23,6)))","v":{"$error":"#N/A"}},"VS",null,"TARA","STOJANOVIĆ",{"$f":"UPPER(IF(($I17=0) + ($I17=\" \"),\"\",VLOOKUP($I17,'PRIPREMA '!$A$8:$O$23,5)))","v":""},{"$f":"UPPER(IF(($I17=0) + ($I17=\" \"),\"\",VLOOKUP($I17,'PRIPREMA '!$A$8:$O$23,6)))","v":""},null,{"$f":"IF($N17=1,$B17,IF($N17=2,$I17,\" \"))","v":" "},{"$f":"IF($N17=1,$I17,IF($N17=2,$B17,\" \"))","v":" "},{"$f":"UPPER(IF(($O17=0) + ($O17=\" \"),\"\",VLOOKUP($O17,'PRIPREMA '!$A$8:$C$23,2)))","v":""},{"$f":"UPPER(IF(($O17=0) + ($O17=\" \"),\"\",VLOOKUP($O17,'PRIPREMA '!$A$8:$C$23,3)))","v":""},null,null,null,11,{"$f":"'RADNI 16'!$J14","v":0},{"$f":"'RADNI 16'!$K14","v":0},{"$f":"'RADNI 16'!L14","v":0}]
["MEC 2","10.30h","ISIDORA","STRAINOVIĆ",{"$f":"UPPER(IF(($B18=0) + ($B18=\" \"),\"\",VLOOKUP($B18,'PRIPREMA '!$A$8:$O$23,4)))","v":{"$error":"#N/A"}},{"$f":"UPPER(IF(($B18=0) + ($B18=\" \"),\"\",VLOOKUP($B18,'PRIPREMA '!$A$8:$O$23,5)))","v":{"$error":"#N/A"}},{"$f":"UPPER(IF(($B18=0) + ($B18=\" \"),\"\",VLOOKUP($B18,'PRIPREMA '!$A$8:$O$23,6)))","v":{"$error":"#N/A"}},"VS",null,"LARA","ORLOVIĆ",{"$f":"UPPER(IF(($I18=0) + ($I18=\" \"),\"\",VLOOKUP($I18,'PRIPREMA '!$A$8:$O$23,5)))","v":""},{"$f":"UPPER(IF(($I18=0) + ($I18=\" \"),\"\",VLOOKUP($I18,'PRIPREMA '!$A$8:$O$23,6)))","v":""},null," "," ",{"$f":"UPPER(IF(($O18=0) + ($O18=\" \"),\"\",VLOOKUP($O18,'PRIPREMA '!$A$8:$C$23,2)))","v":""},{"$f":"UPPER(IF(($O18=0) + ($O18=\" \"),\"\",VLOOKUP($O18,'PRIPREMA '!$A$8:$C$23,3)))","v":""},null,null,null,12,{"$f":"'RADNI 16'!$J15","v":0},{"$f":"'RADNI 16'!$K15","v":0},{"$f":"'RADNI 16'!L15","v":0}]
["MEC 3","10.30h","HANA","ILIĆ",{"$f":"UPPER(IF(($B19=0) + ($B19=\" \"),\"\",VLOOKUP($B19,'PRIPREMA '!$A$8:$O$23,4)))","v":{"$error":"#N/A"}},{"$f":"UPPER(IF(($B19=0) + ($B19=\" \"),\"\",VLOOKUP($B19,'PRIPREMA '!$A$8:$O$23,5)))","v":{"$error":"#N/A"}},{"$f":"UPPER(IF(($B19=0) + ($B19=\" \"),\"\",VLOOKUP($B19,'PRIPREMA '!$A$8:$O$23,6)))","v":{"$error":"#N/A"}},"VS",null,"IVA","KOLEV",{"$f":"UPPER(IF(($I19=0) + ($I19=\" \"),\"\",VLOOKUP($I19,'PRIPREMA '!$A$8:$O$23,5)))","v":""},{"$f":"UPPER(IF(($I19=0) + ($I19=\" \"),\"\",VLOOKUP($I19,'PRIPREMA '!$A$8:$O$23,6)))","v":""},null," "," ",{"$f":"UPPER(IF(($O19=0) + ($O19=\" \"),\"\",VLOOKUP($O19,'PRIPREMA '!$A$8:$C$23,2)))","v":""},{"$f":"UPPER(IF(($O19=0) + ($O19=\" \"),\"\",VLOOKUP($O19,'PRIPREMA '!$A$8:$C$23,3)))","v":""},null,null,null,13,{"$f":"'RADNI 16'!$J16","v":0},{"$f":"'RADNI 16'!$K16","v":0},{"$f":"'RADNI 16'!L16","v":0}]
["MEC 4","12.00h","DANICA","MARJANOVIĆ",{"$f":"UPPER(IF(($B20=0) + ($B20=\" \"),\"\",VLOOKUP($B20,'PRIPREMA '!$A$8:$O$23,4)))","v":{"$error":"#N/A"}},{"$f":"UPPER(IF(($B20=0) + ($B20=\" \"),\"\",VLOOKUP($B20,'PRIPREMA '!$A$8:$O$23,5)))","v":{"$error":"#N/A"}},{"$f":"UPPER(IF(($B20=0) + ($B20=\" \"),\"\",VLOOKUP($B20,'PRIPREMA '!$A$8:$O$23,6)))","v":{"$error":"#N/A"}},"VS",null,"MIA","NIKOLIĆ",{"$f":"UPPER(IF(($I20=0) + ($I20=\" \"),\"\",VLOOKUP($I20,'PRIPREMA '!$A$8:$O$23,5)))","v":""},{"$f":"UPPER(IF(($I20=0) + ($I20=\" \"),\"\",VLOOKUP($I20,'PRIPREMA '!$A$8:$O$23,6)))","v":""},null," "," ",{"$f":"UPPER(IF(($O20=0) + ($O20=\" \"),\"\",VLOOKUP($O20,'PRIPREMA '!$A$8:$C$23,2)))","v":""},{"$f":"UPPER(IF(($O20=0) + ($O20=\" \"),\"\",VLOOKUP($O20,'PRIPREMA '!$A$8:$C$23,3)))","v":""},null,null,null,14,{"$f":"'RADNI 16'!$J17","v":0},{"$f":"'RADNI 16'!$K17","v":0},{"$f":"'RADNI 16'!L17","v":0}]
["MEC 5","12.00h","IVA","STOJANČIĆ",{"$f":"UPPER(IF(($B21=0) + ($B21=\" \"),\"\",VLOOKUP($B21,'PRIPREMA '!$A$8:$O$23,4)))","v":{"$error":"#N/A"}},{"$f":"UPPER(IF(($B21=0) + ($B21=\" \"),\"\",VLOOKUP($B21,'PRIPREMA '!$A$8:$O$23,5)))","v":{"$error":"#N/A"}},{"$f":"UPPER(IF(($B21=0) + ($B21=\" \"),\"\",VLOOKUP($B21,'PRIPREMA '!$A$8:$O$23,6)))","v":{"$error":"#N/A"}},"VS",null,"LANA","ŽIVADINOVIĆ",{"$f":"UPPER(IF(($I21=0) + ($I21=\" \"),\"\",VLOOKUP($I21,'PRIPREMA '!$A$8:$O$23,5)))","v":""},{"$f":"UPPER(IF(($I21=0) + ($I21=\" \"),\"\",VLOOKUP($I21,'PRIPREMA '!$A$8:$O$23,6)))","v":""},null," "," ",{"$f":"UPPER(IF(($O21=0) + ($O21=\" \"),\"\",VLOOKUP($O21,'PRIPREMA '!$A$8:$C$23,2)))","v":""},{"$f":"UPPER(IF(($O21=0) + ($O21=\" \"),\"\",VLOOKUP($O21,'PRIPREMA '!$A$8:$C$23,3)))","v":""},null,null,null,15,{"$f":"'RADNI 16'!$J18","v":0},{"$f":"'RADNI 16'!$K18","v":0},{"$f":"'RADNI 16'!L18","v":0}]
["MEC 6","12.00h","ALEKSANDRA","STOJANOVIĆ",{"$f":"UPPER(IF(($B22=0) + ($B22=\" \"),\"\",VLOOKUP($B22,'PRIPREMA '!$A$8:$O$23,4)))","v":{"$error":"#N/A"}},{"$f":"UPPER(IF(($B22=0) + ($B22=\" \"),\"\",VLOOKUP($B22,'PRIPREMA '!$A$8:$O$23,5)))","v":{"$error":"#N/A"}},{"$f":"UPPER(IF(($B22=0) + ($B22=\" \"),\"\",VLOOKUP($B22,'PRIPREMA '!$A$8:$O$23,6)))","v":{"$error":"#N/A"}},"VS",null,"TARA","ŽIKIĆ",{"$f":"UPPER(IF(($I22=0) + ($I22=\" \"),\"\",VLOOKUP($I22,'PRIPREMA '!$A$8:$O$23,5)))","v":""},{"$f":"UPPER(IF(($I22=0) + ($I22=\" \"),\"\",VLOOKUP($I22,'PRIPREMA '!$A$8:$O$23,6)))","v":""},null," "," ",{"$f":"UPPER(IF(($O22=0) + ($O22=\" \"),\"\",VLOOKUP($O22,'PRIPREMA '!$A$8:$C$23,2)))","v":""},{"$f":"UPPER(IF(($O22=0) + ($O22=\" \"),\"\",VLOOKUP($O22,'PRIPREMA '!$A$8:$C$23,3)))","v":""},null,null,null,16,{"$f":"'RADNI 16'!$J19","v":0},{"$f":"'RADNI 16'!$K19","v":0},{"$f":"'RADNI 16'!L19","v":0}]
["MEC 7 ","12.00h","NEDA","SIMIĆ",{"$f":"UPPER(IF(($B23=0) + ($B23=\" \"),\"\",VLOOKUP($B23,'PRIPREMA '!$A$8:$O$23,4)))","v":{"$error":"#N/A"}},{"$f":"UPPER(IF(($B23=0) + ($B23=\" \"),\"\",VLOOKUP($B23,'PRIPREMA '!$A$8:$O$23,5)))","v":{"$error":"#N/A"}},{"$f":"UPPER(IF(($B23=0) + ($B23=\" \"),\"\",VLOOKUP($B23,'PRIPREMA '!$A$8:$O$23,6)))","v":{"$error":"#N/A"}},"VS",null,"ANĐELA","STEVANOVIĆ",{"$f":"UPPER(IF(($I23=0) + ($I23=\" \"),\"\",VLOOKUP($I23,'PRIPREMA '!$A$8:$O$23,5)))","v":""},{"$f":"UPPER(IF(($I23=0) + ($I23=\" \"),\"\",VLOOKUP($I23,'PRIPREMA '!$A$8:$O$23,6)))","v":""},null," "," ",{"$f":"UPPER(IF(($O23=0) + ($O23=\" \"),\"\",VLOOKUP($O23,'PRIPREMA '!$A$8:$C$23,2)))","v":""},{"$f":"UPPER(IF(($O23=0) + ($O23=\" \"),\"\",VLOOKUP($O23,'PRIPREMA '!$A$8:$C$23,3)))","v":""}]
["MEC 8",null,{"$f":"UPPER(IF(($B24=0) + ($B24=\" \"),\"\",VLOOKUP($B24,'PRIPREMA '!$A$8:$O$23,2)))","v":""},{"$f":"UPPER(IF(($B24=0) + ($B24=\" \"),\"\",VLOOKUP($B24,'PRIPREMA '!$A$8:$O$23,3)))","v":""},{"$f":"UPPER(IF(($B24=0) + ($B24=\" \"),\"\",VLOOKUP($B24,'PRIPREMA '!$A$8:$O$23,4)))","v":""},{"$f":"UPPER(IF(($B24=0) + ($B24=\" \"),\"\",VLOOKUP($B24,'PRIPREMA '!$A$8:$O$23,5)))","v":""},{"$f":"UPPER(IF(($B24=0) + ($B24=\" \"),\"\",VLOOKUP($B24,'PRIPREMA '!$A$8:$O$23,6)))","v":""},"VS",null,{"$f":"UPPER(IF(($I24=0) + ($I24=\" \"),\"\",VLOOKUP($I24,'PRIPREMA '!$A$8:$O$23,2)))","v":""},{"$f":"UPPER(IF(($I24=0) + ($I24=\" \"),\"\",VLOOKUP($I24,'PRIPREMA '!$A$8:$O$23,3)))","v":""},{"$f":"UPPER(IF(($I24=0) + ($I24=\" \"),\"\",VLOOKUP($I24,'PRIPREMA '!$A$8:$O$23,5)))","v":""},{"$f":"UPPER(IF(($I24=0) + ($I24=\" \"),\"\",VLOOKUP($I24,'PRIPREMA '!$A$8:$O$23,6)))","v":""},null," "," ",{"$f":"UPPER(IF(($O24=0) + ($O24=\" \"),\"\",VLOOKUP($O24,'PRIPREMA '!$A$8:$C$23,2)))","v":""},{"$f":"UPPER(IF(($O24=0) + ($O24=\" \"),\"\",VLOOKUP($O24,'PRIPREMA '!$A$8:$C$23,3)))","v":""}]
[]
["KOLO 3"]
[null,null,"IGRAC  1",null,null,null,null,null,null,"IGRAC 2",null,null,null,"POBEDNIK\n1 ILI 2",null,null,"POBEDNIK"]
[null,"sifra igrac1","IME","PREZIME","KLUB","DATUM ROĐENJA","TAKMIČARSKA LEGITIMACIJA",null,"sifra igrac2","IME","PREZIME","DATUM ROĐENJA","TAKMIČARSKA LEGITIMACIJA",null,"sifra w","sifra L","PREZIME","IME","REZULTAT",null,null,"Pozicija","Prezime ","Ime","MEC 1","MEC 1","MEC 1","MEC 1","Bodovi"]
["MEC 1",null,{"$f":"UPPER(IF(($B29=0) + ($B29=\" \"),\"\",VLOOKUP($B29,'PRIPREMA '!$A$8:$O$23,2)))","v":""},{"$f":"UPPER(IF(($B29=0) + ($B29=\" \"),\"\",VLOOKUP($B29,'PRIPREMA '!$A$8:$O$23,3)))","v":""},{"$f":"UPPER(IF(($B29=0) + ($B29=\" \"),\"\",VLOOKUP($B29,'PRIPREMA '!$A$8:$O$23,4)))","v":""},{"$f":"UPPER(IF(($B29=0) + ($B29=\" \"),\"\",VLOOKUP($B29,'PRIPREMA '!$A$8:$O$23,5)))","v":""},{"$f":"UPPER(IF(($B29=0) + ($B29=\" \"),\"\",VLOOKUP($B29,'PRIPREMA '!$A$8:$O$23,6)))","v":""},"VS",null,{"$f":"UPPER(IF(($I29=0) + ($I29=\" \"),\"\",VLOOKUP($I29,'PRIPREMA '!$A$8:$O$23,2)))","v":""},{"$f":"UPPER(IF(($I29=0) + ($I29=\" \"),\"\",VLOOKUP($I29,'PRIPREMA '!$A$8:$O$23,3)))","v":""},{"$f":"UPPER(IF(($I29=0) + ($I29=\" \"),\"\",VLOOKUP($I29,'PRIPREMA '!$A$8:$O$23,5)))","v":""},{"$f":"UPPER(IF(($I29=0) + ($I29=\" \"),\"\",VLOOKUP($I29,'PRIPREMA '!$A$8:$O$23,6)))","v":""},null,{"$f":"IF($N29=1,$B29,IF($N29=2,$I29,\" \"))","v":" "},{"$f":"IF($N29=1,$I29,IF($N29=2,$B29,\" \"))","v":" "},{"$f":"UPPER(IF(($O29=0) + ($O29=\" \"),\"\",VLOOKUP($O29,'PRIPREMA '!$A$8:$C$23,2)))","v":""},{"$f":"UPPER(IF(($O29=0) + ($O29=\" \"),\"\",VLOOKUP($O29,'PRIPREMA '!$A$8:$C$23,3)))","v":""},null,null,null,1,{"$f":"'RADNI 16'!$J4","v":0},{"$f":"'RADNI 16'!$K4","v":0}]
["MEC 2",null,{"$f":"UPPER(IF(($B30=0) + ($B30=\" \"),\"\",VLOOKUP($B30,'PRIPREMA '!$A$8:$O$23,2)))","v":""},{"$f":"UPPER(IF(($B30=0) + ($B30=\" \"),\"\",VLOOKUP($B30,'PRIPREMA '!$A$8:$O$23,3)))","v":""},{"$f":"UPPER(IF(($B30=0) + ($B30=\" \"),\"\",VLOOKUP($B30,'PRIPREMA '!$A$8:$O$23,4)))","v":""},{"$f":"UPPER(IF(($B30=0) + ($B30=\" \"),\"\",VLOOKUP($B30,'PRIPREMA '!$A$8:$O$23,5)))","v":""},{"$f":"UPPER(IF(($B30=0) + ($B30=\" \"),\"\",VLOOKUP($B30,'PRIPREMA '!$A$8:$O$23,6)))","v":""},"VS",null,{"$f":"UPPER(IF(($I30=0) + ($I30=\" \"),\"\",VLOOKUP($I30,'PRIPREMA '!$A$8:$O$23,2)))","v":""},{"$f":"UPPER(IF(($I30=0) + ($I30=\" \"),\"\",VLOOKUP($I30,'PRIPREMA '!$A$8:$O$23,3)))","v":""},{"$f":"UPPER(IF(($I30=0) + ($I30=\" \"),\"\",VLOOKUP($I30,'PRIPREMA '!$A$8:$O$23,5)))","v":""},{"$f":"UPPER(IF(($I30=0) + ($I30=\" \"),\"\",VLOOKUP($I30,'PRIPREMA '!$A$8:$O$23,6)))","v":""},null," "," ",{"$f":"UPPER(IF(($O30=0) + ($O30=\" \"),\"\",VLOOKUP($O30,'PRIPREMA '!$A$8:$C$23,2)))","v":""},{"$f":"UPPER(IF(($O30=0) + ($O30=\" \"),\"\",VLOOKUP($O30,'PRIPREMA '!$A$8:$C$23,3)))","v":""},null,null,null,2,{"$f":"'RADNI 16'!$J5","v":0},{"$f":"'RADNI 16'!$K5","v":0}]
["MEC 3",null,{"$f":"UPPER(IF(($B31=0) + ($B31=\" \"),\"\",VLOOKUP($B31,'PRIPREMA '!$A$8:$O$23,2)))","v":""},{"$f":"UPPER(IF(($B31=0) + ($B31=\" \"),\"\",VLOOKUP($B31,'PRIPREMA '!$A$8:$O$23,3)))","v":""},{"$f":"UPPER(IF(($B31=0) + ($B31=\" \"),\"\",VLOOKUP($B31,'PRIPREMA '!$A$8:$O$23,4)))","v":""},{"$f":"UPPER(IF(($B31=0) + ($B31=\" \"),\"\",VLOOKUP($B31,'PRIPREMA '!$A$8:$O$23,5)))","v":""},{"$f":"UPPER(IF(($B31=0) + ($B31=\" \"),\"\",VLOOKUP($B31,'PRIPREMA '!$A$8:$O$23,6)))","v":""},"VS",null,{"$f":"UPPER(IF(($I31=0) + ($I31=\" \"),\"\",VLOOKUP($I31,'PRIPREMA '!$A$8:$O$23,2)))","v":""},{"$f":"UPPER(IF(($I31=0) + ($I31=\" \"),\"\",VLOOKUP($I31,'PRIPREMA '!$A$8:$O$23,3)))","v":""},{"$f":"UPPER(IF(($I31=0) + ($I31=\" \"),\"\",VLOOKUP($I31,'PRIPREMA '!$A$8:$O$23,5)))","v":""},{"$f":"UPPER(IF(($I31=0) + ($I31=\" \"),\"\",VLOOKUP($I31,'PRIPREMA '!$A$8:$O$23,6)))","v":""},null," "," ",{"$f":"UPPER(IF(($O31=0) + ($O31=\" \"),\"\",VLOOKUP($O31,'PRIPREMA '!$A$8:$C$23,2)))","v":""},{"$f":"UPPER(IF(($O31=0) + ($O31=\" \"),\"\",VLOOKUP($O31,'PRIPREMA '!$A$8:$C$23,3)))","v":""},null,null,null,3,{"$f":"'RADNI 16'!$J6","v":0},{"$f":"'RADNI 16'!$K6","v":0}]
["MEC 4",null,{"$f":"UPPER(IF(($B32=0) + ($B32=\" \"),\"\",VLOOKUP($B32,'PRIPREMA '!$A$8:$O$23,2)))","v":""},{"$f":"UPPER(IF(($B32=0) + ($B32=\" \"),\"\",VLOOKUP($B32,'PRIPREMA '!$A$8:$O$23,3)))","v":""},{"$f":"UPPER(IF(($B32=0) + ($B32=\" \"),\"\",VLOOKUP($B32,'PRIPREMA '!$A$8:$O$23,4)))","v":""},{"$f":"UPPER(IF(($B32=0) + ($B32=\" \"),\"\",VLOOKUP($B32,'PRIPREMA '!$A$8:$O$23,5)))","v":""},{"$f":"UPPER(IF(($B32=0) + ($B32=\" \"),\"\",VLOOKUP($B32,'PRIPREMA '!$A$8:$O$23,6)))","v":""},"VS",null,{"$f":"UPPER(IF(($I32=0) + ($I32=\" \"),\"\",VLOOKUP($I32,'PRIPREMA '!$A$8:$O$23,2)))","v":""},{"$f":"UPPER(IF(($I32=0) + ($I32=\" \"),\"\",VLOOKUP($I32,'PRIPREMA '!$A$8:$O$23,3)))","v":""},{"$f":"UPPER(IF(($I32=0) + ($I32=\" \"),\"\",VLOOKUP($I32,'PRIPREMA '!$A$8:$O$23,5)))","v":""},{"$f":"UPPER(IF(($I32=0) + ($I32=\" \"),\"\",VLOOKUP($I32,'PRIPREMA '!$A$8:$O$23,6)))","v":""},null," "," ",{"$f":"UPPER(IF(($O32=0) + ($O32=\" \"),\"\",VLOOKUP($O32,'PRIPREMA '!$A$8:$C$23,2)))","v":""},{"$f":"UPPER(IF(($O32=0) + ($O32=\" \"),\"\",VLOOKUP($O32,'PRIPREMA '!$A$8:$C$23,3)))","v":""},null,null,null,4,{"$f":"'RADNI 16'!$J7","v":0},{"$f":"'RADNI 16'!$K7","v":0}]
["MEC 5",null,{"$f":"UPPER(IF(($B33=0) + ($B33=\" \"),\"\",VLOOKUP($B33,'PRIPREMA '!$A$8:$O$23,2)))","v":""},{"$f":"UPPER(IF(($B33=0) + ($B33=\" \"),\"\",VLOOKUP($B33,'PRIPREMA '!$A$8:$O$23,3)))","v":""},{"$f":"UPPER(IF(($B33=0) + ($B33=\" \"),\"\",VLOOKUP($B33,'PRIPREMA '!$A$8:$O$23,4)))","v":""},{"$f":"UPPER(IF(($B33=0) + ($B33=\" \"),\"\",VLOOKUP($B33,'PRIPREMA '!$A$8:$O$23,5)))","v":""},{"$f":"UPPER(IF(($B33=0) + ($B33=\" \"),\"\",VLOOKUP($B33,'PRIPREMA '!$A$8:$O$23,6)))","v":""},"VS",null,{"$f":"UPPER(IF(($I33=0) + ($I33=\" \"),\"\",VLOOKUP($I33,'PRIPREMA '!$A$8:$O$23,2)))","v":""},{"$f":"UPPER(IF(($I33=0) + ($I33=\" \"),\"\",VLOOKUP($I33,'PRIPREMA '!$A$8:$O$23,3)))","v":""},{"$f":"UPPER(IF(($I33=0) + ($I33=\" \"),\"\",VLOOKUP($I33,'PRIPREMA '!$A$8:$O$23,5)))","v":""},{"$f":"UPPER(IF(($I33=0) + ($I33=\" \"),\"\",VLOOKUP($I33,'PRIPREMA '!$A$8:$O$23,6)))","v":""},null," "," ",{"$f":"UPPER(IF(($O33=0) + ($O33=\" \"),\"\",VLOOKUP($O33,'PRIPREMA '!$A$8:$C$23,2)))","v":""},{"$f":"UPPER(IF(($O33=0) + ($O33=\" \"),\"\",VLOOKUP($O33,'PRIPREMA '!$A$8:$C$23,3)))","v":""},null,null,null,5,{"$f":"'RADNI 16'!$J8","v":0},{"$f":"'RADNI 16'!$K8","v":0}]
["MEC 6",null,{"$f":"UPPER(IF(($B34=0) + ($B34=\" \"),\"\",VLOOKUP($B34,'PRIPREMA '!$A$8:$O$23,2)))","v":""},{"$f":"UPPER(IF(($B34=0) + ($B34=\" \"),\"\",VLOOKUP($B34,'PRIPREMA '!$A$8:$O$23,3)))","v":""},{"$f":"UPPER(IF(($B34=0) + ($B34=\" \"),\"\",VLOOKUP($B34,'PRIPREMA '!$A$8:$O$23,4)))","v":""},{"$f":"UPPER(IF(($B34=0) + ($B34=\" \"),\"\",VLOOKUP($B34,'PRIPREMA '!$A$8:$O$23,5)))","v":""},{"$f":"UPPER(IF(($B34=0) + ($B34=\" \"),\"\",VLOOKUP($B34,'PRIPREMA '!$A$8:$O$23,6)))","v":""},"VS",null,{"$f":"UPPER(IF(($I34=0) + ($I34=\" \"),\"\",VLOOKUP($I34,'PRIPREMA '!$A$8:$O$23,2)))","v":""},{"$f":"UPPER(IF(($I34=0) + ($I34=\" \"),\"\",VLOOKUP($I34,'PRIPREMA '!$A$8:$O$23,3)))","v":""},{"$f":"UPPER(IF(($I34=0) + ($I34=\" \"),\"\",VLOOKUP($I34,'PRIPREMA '!$A$8:$O$23,5)))","v":""},{"$f":"UPPER(IF(($I34=0) + ($I34=\" \"),\"\",VLOOKUP($I34,'PRIPREMA '!$A$8:$O$23,6)))","v":""},null," "," ",{"$f":"UPPER(IF(($O34=0) + ($O34=\" \"),\"\",VLOOKUP($O34,'PRIPREMA '!$A$8:$C$23,2)))","v":""},{"$f":"UPPER(IF(($O34=0) + ($O34=\" \"),\"\",VLOOKUP($O34,'PRIPREMA '!$A$8:$C$23,3)))","v":""},null,null,null,6,{"$f":"'RADNI 16'!$J9","v":0},{"$f":"'RADNI 16'!$K9","v":0}]
["MEC 7 ",null,{"$f":"UPPER(IF(($B35=0) + ($B35=\" \"),\"\",VLOOKUP($B35,'PRIPREMA '!$A$8:$O$23,2)))","v":""},{"$f":"UPPER(IF(($B35=0) + ($B35=\" \"),\"\",VLOOKUP($B35,'PRIPREMA '!$A$8:$O$23,3)))","v":""},{"$f":"UPPER(IF(($B35=0) + ($B35=\" \"),\"\",VLOOKUP($B35,'PRIPREMA '!$A$8:$O$23,4)))","v":""},{"$f":"UPPER(IF(($B35=0) + ($B35=\" \"),\"\",VLOOKUP($B35,'PRIPREMA '!$A$8:$O$23,5)))","v":""},{"$f":"UPPER(IF(($B35=0) + ($B35=\" \"),\"\",VLOOKUP($B35,'PRIPREMA '!$A$8:$O$23,6)))","v":""},"VS",null,{"$f":"UPPER(IF(($I35=0) + ($I35=\" \"),\"\",VLOOKUP($I35,'PRIPREMA '!$A$8:$O$23,2)))","v":""},{"$f":"UPPER(IF(($I35=0) + ($I35=\" \"),\"\",VLOOKUP($I35,'PRIPREMA '!$A$8:$O$23,3)))","v":""},{"$f":"UPPER(IF(($I35=0) + ($I35=\" \"),\"\",VLOOKUP($I35,'PRIPREMA '!$A$8:$O$23,5)))","v":""},{"$f":"UPPER(IF(($I35=0) + ($I35=\" \"),\"\",VLOOKUP($I35,'PRIPREMA '!$A$8:$O$23,6)))","v":""},null," "," ",{"$f":"UPPER(IF(($O35=0) + ($O35=\" \"),\"\",VLOOKUP($O35,'PRIPREMA '!$A$8:$C$23,2)))","v":""},{"$f":"UPPER(IF(($O35=0) + ($O35=\" \"),\"\",VLOOKUP($O35,'PRIPREMA '!$A$8:$C$23,3)))","v":""},null,null,null,7,{"$f":"'RADNI 16'!$J10","v":0},{"$f":"'RADNI 16'!$K10","v":0}]
["MEC 8",null,{"$f":"UPPER(IF(($B36=0) + ($B36=\" \"),\"\",VLOOKUP($B36,'PRIPREMA '!$A$8:$O$23,2)))","v":""},{"$f":"UPPER(IF(($B36=0) + ($B36=\" \"),\"\",VLOOKUP($B36,'PRIPREMA '!$A$8:$O$23,3)))","v":""},{"$f":"UPPER(IF(($B36=0) + ($B36=\" \"),\"\",VLOOKUP($B36,'PRIPREMA '!$A$8:$O$23,4)))","v":""},{"$f":"UPPER(IF(($B36=0) + ($B36=\" \"),\"\",VLOOKUP($B36,'PRIPREMA '!$A$8:$O$23,5)))","v":""},{"$f":"UPPER(IF(($B36=0) + ($B36=\" \"),\"\",VLOOKUP($B36,'PRIPREMA '!$A$8:$O$23,6)))","v":""},"VS",null,{"$f":"UPPER(IF(($I36=0) + ($I36=\" \"),\"\",VLOOKUP($I36,'PRIPREMA '!$A$8:$O$23,2)))","v":""},{"$f":"UPPER(IF(($I36=0) + ($I36=\" \"),\"\",VLOOKUP($I36,'PRIPREMA '!$A$8:$O$23,3)))","v":""},{"$f":"UPPER(IF(($I36=0) + ($I36=\" \"),\"\",VLOOKUP($I36,'PRIPREMA '!$A$8:$O$23,5)))","v":""},{"$f":"UPPER(IF(($I36=0) + ($I36=\" \"),\"\",VLOOKUP($I36,'PRIPREMA '!$A$8:$O$23,6)))","v":""},null," "," ",{"$f":"UPPER(IF(($O36=0) + ($O36=\" \"),\"\",VLOOKUP($O36,'PRIPREMA '!$A$8:$C$23,2)))","v":""},{"$f":"UPPER(IF(($O36=0) + ($O36=\" \"),\"\",VLOOKUP($O36,'PRIPREMA '!$A$8:$C$23,3)))","v":""},null,null,null,8,{"$f":"'RADNI 16'!$J11","v":0},{"$f":"'RADNI 16'!$K11","v":0}]
[null,null,null,null,null,null,null,null,null,null,null,null,null,null,null,null,null,null,null,null,null,9,{"$f":"'RADNI 16'!$J12","v":0},{"$f":"'RADNI 16'!$K12","v":0}]
["KOLO 4",null,null,null,null,null,null,null,null,null,null,null,null,null,null,null,null,null,null,null,null,10,{"$f":"'RADNI 16'!$J13","v":0},{"$f":"'RADNI 16'!$K13","v":0}]
[null,null,"IGRAC  1",null,null,null,null,null,null,"IGRAC 2",null,null,null,"POBEDNIK\n1 ILI 2",null,null,"POBEDNIK",null,null,null,null,11,{"$f":"'RADNI 16'!$J14","v":0},{"$f":"'RADNI 16'!$K14","v":0}]
[null,"sifra igrac1","IME","PREZIME","KLUB","DATUM ROĐENJA","TAKMIČARSKA LEGITIMACIJA",null,"sifra igrac2","IME","PREZIME","DATUM ROĐENJA","TAKMIČARSKA LEGITIMACIJA",null,"sifra w","sifra L","PREZIME","IME","REZULTAT",null,null,12,{"$f":"'RADNI 16'!$J15","v":0},{"$f":"'RADNI 16'!$K15","v":0}]
["MEC 1",null,{"$f":"UPPER(IF(($B41=0) + ($B41=\" \"),\"\",VLOOKUP($B41,'PRIPREMA '!$A$8:$O$23,2)))","v":""},{"$f":"UPPER(IF(($B41=0) + ($B41=\" \"),\"\",VLOOKUP($B41,'PRIPREMA '!$A$8:$O$23,3)))","v":""},{"$f":"UPPER(IF(($B41=0) + ($B41=\" \"),\"\",VLOOKUP($B41,'PRIPREMA '!$A$8:$O$23,4)))","v":""},{"$f":"UPPER(IF(($B41=0) + ($B41=\" \"),\"\",VLOOKUP($B41,'PRIPREMA '!$A$8:$O$23,5)))","v":""},{"$f":"UPPER(IF(($B41=0) + ($B41=\" \"),\"\",VLOOKUP($B41,'PRIPREMA '!$A$8:$O$23,6)))","v":""},"VS",null,{"$f":"UPPER(IF(($I41=0) + ($I41=\" \"),\"\",VLOOKUP($I41,'PRIPREMA '!$A$8:$O$23,2)))","v":""},{"$f":"UPPER(IF(($I41=0) + ($I41=\" \"),\"\",VLOOKUP($I41,'PRIPREMA '!$A$8:$O$23,3)))","v":""},{"$f":"UPPER(IF(($I41=0) + ($I41=\" \"),\"\",VLOOKUP($I41,'PRIPREMA '!$A$8:$O$23,5)))","v":""},{"$f":"UPPER(IF(($I41=0) + ($I41=\" \"),\"\",VLOOKUP($I41,'PRIPREMA '!$A$8:$O$23,6)))","v":""},null,{"$f":"IF($N41=1,$B41,IF($N41=2,$I41,\" \"))","v":" "},{"$f":"IF($N41=1,$I41,IF($N41=2,$B41,\" \"))","v":" "},{"$f":"UPPER(IF(($O41=0) + ($O41=\" \"),\"\",VLOOKUP($O41,'PRIPREMA '!$A$8:$C$23,2)))","v":""},{"$f":"UPPER(IF(($O41=0) + ($O41=\" \"),\"\",VLOOKUP($O41,'PRIPREMA '!$A$8:$C$23,3)))","v":""},null,null,null,13,{"$f":"'RADNI 16'!$J16","v":0},{"$f":"'RADNI 16'!$K16","v":0}]
["MEC 2",null,{"$f":"UPPER(IF(($B42=0) + ($B42=\" \"),\"\",VLOOKUP($B42,'PRIPREMA '!$A$8:$O$23,2)))","v":""},{"$f":"UPPER(IF(($B42=0) + ($B42=\" \"),\"\",VLOOKUP($B42,'PRIPREMA '!$A$8:$O$23,3)))","v":""},{"$f":"UPPER(IF(($B42=0) + ($B42=\" \"),\"\",VLOOKUP($B42,'PRIPREMA '!$A$8:$O$23,4)))","v":""},{"$f":"UPPER(IF(($B42=0) + ($B42=\" \"),\"\",VLOOKUP($B42,'PRIPREMA '!$A$8:$O$23,5)))","v":""},{"$f":"UPPER(IF(($B42=0) + ($B42=\" \"),\"\",VLOOKUP($B42,'PRIPREMA '!$A$8:$O$23,6)))","v":""},"VS",null,{"$f":"UPPER(IF(($I42=0) + ($I42=\" \"),\"\",VLOOKUP($I42,'PRIPREMA '!$A$8:$O$23,2)))","v":""},{"$f":"UPPER(IF(($I42=0) + ($I42=\" \"),\"\",VLOOKUP($I42,'PRIPREMA '!$A$8:$O$23,3)))","v":""},{"$f":"UPPER(IF(($I42=0) + ($I42=\" \"),\"\",VLOOKUP($I42,'PRIPREMA '!$A$8:$O$23,5)))","v":""},{"$f":"UPPER(IF(($I42=0) + ($I42=\" \"),\"\",VLOOKUP($I42,'PRIPREMA '!$A$8:$O$23,6)))","v":""},null," "," ",{"$f":"UPPER(IF(($O42=0) + ($O42=\" \"),\"\",VLOOKUP($O42,'PRIPREMA '!$A$8:$C$23,2)))","v":""},{"$f":"UPPER(IF(($O42=0) + ($O42=\" \"),\"\",VLOOKUP($O42,'PRIPREMA '!$A$8:$C$23,3)))","v":""},null,null,null,14,{"$f":"'RADNI 16'!$J17","v":0},{"$f":"'RADNI 16'!$K17","v":0}]
["MEC 3",null,{"$f":"UPPER(IF(($B43=0) + ($B43=\" \"),\"\",VLOOKUP($B43,'PRIPREMA '!$A$8:$O$23,2)))","v":""},{"$f":"UPPER(IF(($B43=0) + ($B43=\" \"),\"\",VLOOKUP($B43,'PRIPREMA '!$A$8:$O$23,3)))","v":""},{"$f":"UPPER(IF(($B43=0) + ($B43=\" \"),\"\",VLOOKUP($B43,'PRIPREMA '!$A$8:$O$23,4)))","v":""},{"$f":"UPPER(IF(($B43=0) + ($B43=\" \"),\"\",VLOOKUP($B43,'PRIPREMA '!$A$8:$O$23,5)))","v":""},{"$f":"UPPER(IF(($B43=0) + ($B43=\" \"),\"\",VLOOKUP($B43,'PRIPREMA '!$A$8:$O$23,6)))","v":""},"VS",null,{"$f":"UPPER(IF(($I43=0) + ($I43=\" \"),\"\",VLOOKUP($I43,'PRIPREMA '!$A$8:$O$23,2)))","v":""},{"$f":"UPPER(IF(($I43=0) + ($I43=\" \"),\"\",VLOOKUP($I43,'PRIPREMA '!$A$8:$O$23,3)))","v":""},{"$f":"UPPER(IF(($I43=0) + ($I43=\" \"),\"\",VLOOKUP($I43,'PRIPREMA '!$A$8:$O$23,5)))","v":""},{"$f":"UPPER(IF(($I43=0) + ($I43=\" \"),\"\",VLOOKUP($I43,'PRIPREMA '!$A$8:$O$23,6)))","v":""},null," "," ",{"$f":"UPPER(IF(($O43=0) + ($O43=\" \"),\"\",VLOOKUP($O43,'PRIPREMA '!$A$8:$C$23,2)))","v":""},{"$f":"UPPER(IF(($O43=0) + ($O43=\" \"),\"\",VLOOKUP($O43,'PRIPREMA '!$A$8:$C$23,3)))","v":""},null,null,null,15,{"$f":"'RADNI 16'!$J18","v":0},{"$f":"'RADNI 16'!$K18","v":0}]
["MEC 4",null,{"$f":"UPPER(IF(($B44=0) + ($B44=\" \"),\"\",VLOOKUP($B44,'PRIPREMA '!$A$8:$O$23,2)))","v":""},{"$f":"UPPER(IF(($B44=0) + ($B44=\" \"),\"\",VLOOKUP($B44,'PRIPREMA '!$A$8:$O$23,3)))","v":""},{"$f":"UPPER(IF(($B44=0) + ($B44=\" \"),\"\",VLOOKUP($B44,'PRIPREMA '!$A$8:$O$23,4)))","v":""},{"$f":"UPPER(IF(($B44=0) + ($B44=\" \"),\"\",VLOOKUP($B44,'PRIPREMA '!$A$8:$O$23,5)))","v":""},{"$f":"UPPER(IF(($B44=0) + ($B44=\" \"),\"\",VLOOKUP($B44,'PRIPREMA '!$A$8:$O$23,6)))","v":""},"VS",null,{"$f":"UPPER(IF(($I44=0) + ($I44=\" \"),\"\",VLOOKUP($I44,'PRIPREMA '!$A$8:$O$23,2)))","v":""},{"$f":"UPPER(IF(($I44=0) + ($I44=\" \"),\"\",VLOOKUP($I44,'PRIPREMA '!$A$8:$O$23,3)))","v":""},{"$f":"UPPER(IF(($I44=0) + ($I44=\" \"),\"\",VLOOKUP($I44,'PRIPREMA '!$A$8:$O$23,5)))","v":""},{"$f":"UPPER(IF(($I44=0) + ($I44=\" \"),\"\",VLOOKUP($I44,'PRIPREMA '!$A$8:$O$23,6)))","v":""},null," "," ",{"$f":"UPPER(IF(($O44=0) + ($O44=\" \"),\"\",VLOOKUP($O44,'PRIPREMA '!$A$8:$C$23,2)))","v":""},{"$f":"UPPER(IF(($O44=0) + ($O44=\" \"),\"\",VLOOKUP($O44,'PRIPREMA '!$A$8:$C$23,3)))","v":""},null,null,null,16,{"$f":"'RADNI 16'!$J19","v":0},{"$f":"'RADNI 16'!$K19","v":0}]
["MEC 5",null,{"$f":"UPPER(IF(($B45=0) + ($B45=\" \"),\"\",VLOOKUP($B45,'PRIPREMA '!$A$8:$O$23,2)))","v":""},{"$f":"UPPER(IF(($B45=0) + ($B45=\" \"),\"\",VLOOKUP($B45,'PRIPREMA '!$A$8:$O$23,3)))","v":""},{"$f":"UPPER(IF(($B45=0) + ($B45=\" \"),\"\",VLOOKUP($B45,'PRIPREMA '!$A$8:$O$23,4)))","v":""},{"$f":"UPPER(IF(($B45=0) + ($B45=\" \"),\"\",VLOOKUP($B45,'PRIPREMA '!$A$8:$O$23,5)))","v":""},{"$f":"UPPER(IF(($B45=0) + ($B45=\" \"),\"\",VLOOKUP($B45,'PRIPREMA '!$A$8:$O$23,6)))","v":""},"VS",null,{"$f":"UPPER(IF(($I45=0) + ($I45=\" \"),\"\",VLOOKUP($I45,'PRIPREMA '!$A$8:$O$23,2)))","v":""},{"$f":"UPPER(IF(($I45=0) + ($I45=\" \"),\"\",VLOOKUP($I45,'PRIPREMA '!$A$8:$O$23,3)))","v":""},{"$f":"UPPER(IF(($I45=0) + ($I45=\" \"),\"\",VLOOKUP($I45,'PRIPREMA '!$A$8:$O$23,5)))","v":""},{"$f":"UPPER(IF(($I45=0) + ($I45=\" \"),\"\",VLOOKUP($I45,'PRIPREMA '!$A$8:$O$23,6)))","v":""},null," "," ",{"$f":"UPPER(IF(($O45=0) + ($O45=\" \"),\"\",VLOOKUP($O45,'PRIPREMA '!$A$8:$C$23,2)))","v":""},{"$f":"UPPER(IF(($O45=0) + ($O45=\" \"),\"\",VLOOKUP($O45,'PRIPREMA '!$A$8:$C$23,3)))","v":""}]
["MEC 6",null,{"$f":"UPPER(IF(($B46=0) + ($B46=\" \"),\"\",VLOOKUP($B46,'PRIPREMA '!$A$8:$O$23,2)))","v":""},{"$f":"UPPER(IF(($B46=0) + ($B46=\" \"),\"\",VLOOKUP($B46,'PRIPREMA '!$A$8:$O$23,3)))","v":""},{"$f":"UPPER(IF(($B46=0) + ($B46=\" \"),\"\",VLOOKUP($B46,'PRIPREMA '!$A$8:$O$23,4)))","v":""},{"$f":"UPPER(IF(($B46=0) + ($B46=\" \"),\"\",VLOOKUP($B46,'PRIPREMA '!$A$8:$O$23,5)))","v":""},{"$f":"UPPER(IF(($B46=0) + ($B46=\" \"),\"\",VLOOKUP($B46,'PRIPREMA '!$A$8:$O$23,6)))","v":""},"VS",null,{"$f":"UPPER(IF(($I46=0) + ($I46=\" \"),\"\",VLOOKUP($I46,'PRIPREMA '!$A$8:$O$23,2)))","v":""},{"$f":"UPPER(IF(($I46=0) + ($I46=\" \"),\"\",VLOOKUP($I46,'PRIPREMA '!$A$8:$O$23,3)))","v":""},{"$f":"UPPER(IF(($I46=0) + ($I46=\" \"),\"\",VLOOKUP($I46,'PRIPREMA '!$A$8:$O$23,5)))","v":""},{"$f":"UPPER(IF(($I46=0) + ($I46=\" \"),\"\",VLOOKUP($I46,'PRIPREMA '!$A$8:$O$23,6)))","v":""},null," "," ",{"$f":"UPPER(IF(($O46=0) + ($O46=\" \"),\"\",VLOOKUP($O46,'PRIPREMA '!$A$8:$C$23,2)))","v":""},{"$f":"UPPER(IF(($O46=0) + ($O46=\" \"),\"\",VLOOKUP($O46,'PRIPREMA '!$A$8:$C$23,3)))","v":""}]
["MEC 7 ",null,{"$f":"UPPER(IF(($B47=0) + ($B47=\" \"),\"\",VLOOKUP($B47,'PRIPREMA '!$A$8:$O$23,2)))","v":""},{"$f":"UPPER(IF(($B47=0) + ($B47=\" \"),\"\",VLOOKUP($B47,'PRIPREMA '!$A$8:$O$23,3)))","v":""},{"$f":"UPPER(IF(($B47=0) + ($B47=\" \"),\"\",VLOOKUP($B47,'PRIPREMA '!$A$8:$O$23,4)))","v":""},{"$f":"UPPER(IF(($B47=0) + ($B47=\" \"),\"\",VLOOKUP($B47,'PRIPREMA '!$A$8:$O$23,5)))","v":""},{"$f":"UPPER(IF(($B47=0) + ($B47=\" \"),\"\",VLOOKUP($B47,'PRIPREMA '!$A$8:$O$23,6)))","v":""},"VS",null,{"$f":"UPPER(IF(($I47=0) + ($I47=\" \"),\"\",VLOOKUP($I47,'PRIPREMA '!$A$8:$O$23,2)))","v":""},{"$f":"UPPER(IF(($I47=0) + ($I47=\" \"),\"\",VLOOKUP($I47,'PRIPREMA '!$A$8:$O$23,3)))","v":""},{"$f":"UPPER(IF(($I47=0) + ($I47=\" \"),\"\",VLOOKUP($I47,'PRIPREMA '!$A$8:$O$23,5)))","v":""},{"$f":"UPPER(IF(($I47=0) + ($I47=\" \"),\"\",VLOOKUP($I47,'PRIPREMA '!$A$8:$O$23,6)))","v":""},null," "," ",{"$f":"UPPER(IF(($O47=0) + ($O47=\" \"),\"\",VLOOKUP($O47,'PRIPREMA '!$A$8:$C$23,2)))","v":""},{"$f":"UPPER(IF(($O47=0) + ($O47=\" \"),\"\",VLOOKUP($O47,'PRIPREMA '!$A$8:$C$23,3)))","v":""}]
["MEC 8",null,{"$f":"UPPER(IF(($B48=0) + ($B48=\" \"),\"\",VLOOKUP($B48,'PRIPREMA '!$A$8:$O$23,2)))","v":""},{"$f":"UPPER(IF(($B48=0) + ($B48=\" \"),\"\",VLOOKUP($B48,'PRIPREMA '!$A$8:$O$23,3)))","v":""},{"$f":"UPPER(IF(($B48=0) + ($B48=\" \"),\"\",VLOOKUP($B48,'PRIPREMA '!$A$8:$O$23,4)))","v":""},{"$f":"UPPER(IF(($B48=0) + ($B48=\" \"),\"\",VLOOKUP($B48,'PRIPREMA '!$A$8:$O$23,5)))","v":""},{"$f":"UPPER(IF(($B48=0) + ($B48=\" \"),\"\",VLOOKUP($B48,'PRIPREMA '!$A$8:$O$23,6)))","v":""},"VS",null,{"$f":"UPPER(IF(($I48=0) + ($I48=\" \"),\"\",VLOOKUP($I48,'PRIPREMA '!$A$8:$O$23,2)))","v":""},{"$f":"UPPER(IF(($I48=0) + ($I48=\" \"),\"\",VLOOKUP($I48,'PRIPREMA '!$A$8:$O$23,3)))","v":""},{"$f":"UPPER(IF(($I48=0) + ($I48=\" \"),\"\",VLOOKUP($I48,'PRIPREMA '!$A$8:$O$23,5)))","v":""},{"$f":"UPPER(IF(($I48=0) + ($I48=\" \"),\"\",VLOOKUP($I48,'PRIPREMA '!$A$8:$O$23,6)))","v":""},null," "," ",{"$f":"UPPER(IF(($O48=0) + ($O48=\" \"),\"\",VLOOKUP($O48,'PRIPREMA '!$A$8:$C$23,2)))","v":""},{"$f":"UPPER(IF(($O48=0) + ($O48=\" \"),\"\",VLOOKUP($O48,'PRIPREMA '!$A$8:$C$23,3)))","v":""}]

{"sheet":"RADNI 16","index":2,"n_rows":24,"n_cols":17,"rows_kept":24,"cut":false,"hidden":true,"merged":[]}
[]
[null,null,"BODOVI",15]
[null,null,"rang","Pozicija","Prezime ","Ime","Bodovi",null,"Pozicija","Prezime ","Ime","Bodovi"]
[null,{"$f":"RANK($G4,$G$4:$G$23)+SUMPRODUCT(--($C4>$C$4:$C$23),--($G$4:$G$23=$G4))","v":{"$error":"#N/A"}},10,{"$f":"RANK($G4,$G$4:$G$23)+SUMPRODUCT(--($C4>$C$4:$C$23),--($G$4:$G$23=$G4))","v":{"$error":"#N/A"}},null,null,null,null,1,{"$f":"IFERROR(VLOOKUP($I4,$M$4:$P$19,2,FALSE),VLOOKUP($I4,$M$4:$P$19,2,TRUE))","v":0},{"$f":"IFERROR(VLOOKUP($I4,$M$4:$P$19,3,FALSE),VLOOKUP($I4,$M$4:$P$19,3,TRUE))","v":0},{"$f":"IFERROR(VLOOKUP($I4,$M$4:$P$19,4,FALSE),VLOOKUP($I4,$M$4:$P$19,4,TRUE))","v":0},{"$f":"RANK($P4,$P$4:$P$19)+SUMPRODUCT(--($C4>$C$4:$C$19),--($P$4:$P$19=$P4))","v":1},{"$f":"'PRIPREMA '!$B8","v":0},{"$f":"'PRIPREMA '!$C8","v":0},{"$f":"Q4*$D$2","v":0},{"$f":"COUNTIFS(Zreb16!O:O,'PRIPREMA '!A8)","v":0}]
[null,{"$f":"RANK(G5,$G$4:$G$23)+SUMPRODUCT(--(C5>$C$4:$C$23),--($G$4:$G$23=G5))","v":{"$error":"#N/A"}},11,{"$error":"#N/A"},null,null,null,null,2,{"$f":"IFERROR(VLOOKUP($I5,$M$4:$P$19,2,FALSE),VLOOKUP($I5,$M$4:$P$19,2,TRUE))","v":0},{"$f":"IFERROR(VLOOKUP($I5,$M$4:$P$19,3,FALSE),VLOOKUP($I5,$M$4:$P$19,3,TRUE))","v":0},{"$f":"IFERROR(VLOOKUP($I5,$M$4:$P$19,4,FALSE),VLOOKUP($I5,$M$4:$P$19,4,TRUE))","v":0},{"$f":"RANK($P5,$P$4:$P$19)+SUMPRODUCT(--($C5>$C$4:$C$19),--($P$4:$P$19=$P5))","v":2},{"$f":"'PRIPREMA '!$B9","v":0},{"$f":"'PRIPREMA '!$C9","v":0},{"$f":"Q5*$D$2","v":0},{"$f":"COUNTIFS(Zreb16!O:O,'PRIPREMA '!A9)","v":0}]
[null,{"$error":"#N/A"},12,{"$error":"#N/A"},null,null,null,null,3,0,0,0,3,{"$f":"'PRIPREMA '!$B10","v":0},{"$f":"'PRIPREMA '!$C10","v":0},0,{"$f":"COUNTIFS(Zreb16!O:O,'PRIPREMA '!A10)","v":0}]
[null,{"$error":"#N/A"},13,{"$error":"#N/A"},null,null,null,null,4,0,0,0,4,{"$f":"'PRIPREMA '!$B11","v":0},{"$f":"'PRIPREMA '!$C11","v":0},0,{"$f":"COUNTIFS(Zreb16!O:O,'PRIPREMA '!A11)","v":0}]
[null,{"$error":"#N/A"},14,{"$error":"#N/A"},null,null,null,null,5,0,0,0,5,{"$f":"'PRIPREMA '!$B12","v":0},{"$f":"'PRIPREMA '!$C12","v":0},0,{"$f":"COUNTIFS(Zreb16!O:O,'PRIPREMA '!A12)","v":0}]
[null,{"$error":"#N/A"},15,{"$error":"#N/A"},null,null,null,null,6,0,0,0,6,{"$f":"'PRIPREMA '!$B13","v":0},{"$f":"'PRIPREMA '!$C13","v":0},0,{"$f":"COUNTIFS(Zreb16!O:O,'PRIPREMA '!A13)","v":0}]
[null,{"$error":"#N/A"},16,{"$error":"#N/A"},null,null,null,null,7,0,0,0,7,{"$f":"'PRIPREMA '!$B14","v":0},{"$f":"'PRIPREMA '!$C14","v":0},0,{"$f":"COUNTIFS(Zreb16!O:O,'PRIPREMA '!A14)","v":0}]
[null,{"$error":"#N/A"},17,{"$error":"#N/A"},null,null,null,null,8,0,0,0,8,{"$f":"'PRIPREMA '!$B15","v":0},{"$f":"'PRIPREMA '!$C15","v":0},0,{"$f":"COUNTIFS(Zreb16!O:O,'PRIPREMA '!A15)","v":0}]
[null,{"$error":"#N/A"},18,{"$error":"#N/A"},null,null,null,null,9,0,0,0,9,{"$f":"'PRIPREMA '!$B16","v":0},{"$f":"'PRIPREMA '!$C16","v":0},0,{"$f":"COUNTIFS(Zreb16!O:O,'PRIPREMA '!A16)","v":0}]
[null,{"$error":"#N/A"},19,{"$error":"#N/A"},null,null,null,null,10,0,0,0,10,{"$f":"'PRIPREMA '!$B17","v":0},{"$f":"'PRIPREMA '!$C17","v":0},0,{"$f":"COUNTIFS(Zreb16!O:O,'PRIPREMA '!A17)","v":0}]
[null,{"$error":"#N/A"},20,{"$error":"#N/A"},null,null,null,null,11,0,0,0,11,{"$f":"'PRIPREMA '!$B18","v":0},{"$f":"'PRIPREMA '!$C18","v":0},0,{"$f":"COUNTIFS(Zreb16!O:O,'PRIPREMA '!A18)","v":0}]
[null,{"$error":"#N/A"},21,{"$error":"#N/A"},null,null,null,null,12,0,0,0,12,{"$f":"'PRIPREMA '!$B19","v":0},{"$f":"'PRIPREMA '!$C19","v":0},0,{"$f":"COUNTIFS(Zreb16!O:O,'PRIPREMA '!A19)","v":0}]
[null,{"$error":"#N/A"},22,{"$error":"#N/A"},null,null,null,null,13,0,0,0,13,{"$f":"'PRIPREMA '!$B20","v":0},{"$f":"'PRIPREMA '!$C20","v":0},0,{"$f":"COUNTIFS(Zreb16!O:O,'PRIPREMA '!A20)","v":0}]
[null,{"$error":"#N/A"},23,{"$error":"#N/A"},null,null,null,null,14,0,0,0,14,{"$f":"'PRIPREMA '!$B21","v":0},{"$f":"'PRIPREMA '!$C21","v":0},0,{"$f":"COUNTIFS(Zreb16!O:O,'PRIPREMA '!A21)","v":0}]
[null,{"$error":"#N/A"},24,{"$error":"#N/A"},null,null,null,null,15,0,0,0,15,{"$f":"'PRIPREMA '!$B22","v":0},{"$f":"'PRIPREMA '!$C22","v":0},0,{"$f":"COUNTIFS(Zreb16!O:O,'PRIPREMA '!A22)","v":0}]
[null,{"$error":"#N/A"},25,{"$error":"#N/A"},null,null,null,null,16,0,0,0,16,{"$f":"'PRIPREMA '!$B23","v":0},{"$f":"'PRIPREMA '!$C23","v":0},0,{"$f":"COUNTIFS(Zreb16!O:O,'PRIPREMA '!A23)","v":0}]
[null,{"$error":"#N/A"},26,{"$error":"#N/A"},null,null,null,null,17]
[null,{"$error":"#N/A"},27,{"$error":"#N/A"},null,null,null,null,18]
[null,{"$error":"#N/A"},28,{"$error":"#N/A"},null,null,null,null,19]
[null,{"$error":"#N/A"},29,{"$error":"#N/A"},null,null,null,null,20]
[null,null,null,null,null,null,null,null,null,{"$f":"IFERROR(VLOOKUP($I24,$D$4:$G$23,2,FALSE),VLOOKUP($I24,$D$4:$G$23,2,TRUE))","v":{"$error":"#N/A"}}]